Workbook

Sheet ※ 유의사항
B2: < 작성 유의사항 >
B3: ※ Excel 서식, 셀 병합, 수식 변경 금지
B4: ※ 작성 기준일자 : '25.12.31
B5: ※ 동일내용에 한해 Excel과 Hwp 간 입력내용 일치
B6: ※ [0.펀드요약]은 작성 불필요(수식)
B7: ※ 사실과 다른 제안내용이나 허위사실을 기재할 경우 평가대상에서 제외될 수 있으며, 선정 이후에도 선정을 취소할 수 있음
B8: ※ 추가 설명이 필요한 경우 주석 또는 메모 추가 가능
B9: ※ 작성대상기간이 기재되어있지 않은 경우, 전체 기간을 대상으로 작성
B10: ※ 청산·운용중인 펀드 및 운용인력 성과 작성 시 아래 투자기구에 한해서만 작성
B11: - 벤처투자 촉진에 관한 법률」에 의한 벤처투자조합, 舊「중소기업창업지원법」에 의한 중소기업창업투자조합, 舊「벤처기업육성에 관한 특별조치법」에 의한 한국벤처투자조합(KVF),
B12: 「여신전문금융업법」에 의한 신기술투자조합, 「자본시장과 금융투자업에 관한 법률」 창업벤처전문기관전용 사모집합투자기구
B13: ※ 투자기구 작성 시 벤처투자조합 등 관련 근거법령 상의 정확한 투자기구를 기재
... B27: 관련 운용 재직경력(A)과 기타 금융기관 및 유관분야(회계법인, 컨설팅, PI투자, 전략적 투자자 등) 재직경력(B) 기재

Sheet ※ 증빙서류 제출 방법
B2: * 증빙 서류 제출 방법 (아래와 같이 폴더를 구성하여 증빙서류 제출)
B3: (폴더명)-(하위폴더명) | C3: 요청 증빙자료 | D3: 관련 Sheet
B4: 0. 기본 제출자료
B5: ┕제안서 | C5: 엑셀제안서, 한글제안서(HWP 및 PDF) | D5: [1. 개요]
B6: ┕공문 등 제출서류 | C6: 제안서 제출 공문 | D6: [1. 개요]
C7: 사업자등록증명원, 법인등기부등본, 법인인감증명서, 서약서, 개인정보동의서, 감독기관 제재내역 등 | D7: [1. 개요]
B8: ┕감사보고서 | C8: 최근 3개년도 감사보고서 및 재무제표 | D8: [1. 개요]
C9: 최대주주의 최근 3개년 감사보고서(최대주주가 법인일 경우) | D9: [1. 개요]
B10: ┕출자확약서 | C10: 출자 확약서(또는 선정 확인 공문 등), GP의 출자확약서 포함 | D10: [1. 개요]
B11: 1. 운용성과 관련 증빙자료
B12: ┕공정가치보고서 및 자산명세서 | C12: 공정가치평가보고서 (기준일 이전 평가보고서일 경우 평가가치 변동이 없음을 확인하는 확인서 제출) | D12: [3. 운용중인 펀드]
C13: 자산보관명세서 (평가기준일 기준) | D13: [3. 운용중인 펀드]
C14: SPC 관련자료(SPC 재무제표, SPC 출자자명부, SPC 자산보관명세서) | D14: [3. 운용중인 펀드]
C15: 펀드별 투자제안서(IM) | D15: [3. 운용중인 펀드]
B16: ┕펀드재무제표 | C16: 펀드별 재무상태표 또는 감사보고서 (평가기준일) | D16: [3. 운용중인 펀드]
B17: ┕현금흐름 | C17: 청산 및 운용중인 펀드 입출금 통장사본(납입/배분, 투자/회수) 또는 거래명세서 등 (통장 사본 내 마킹 必, 통장사본과 불일치 시 불일치 사유 기재 필수) | D17: [2. 청산펀드] [3. 운용중인 펀드] [4. 운용인력 성과]
C18: 운용 중인 펀드의 영업보고서(평가기준일 기준) | D18: [4. 운용인력 성과]
C19: 청산펀드의 청산보고서(청산펀드 투자자산의 투자/회수 실적 확인용) | D19: [4. 운용인력 성과]
B20: ┕규약 | C20: 청산 및 운용 중인 펀드별 최종 규약(펀드 약정액 확인용) | D20: [2. 청산펀드] [3. 운용중인 펀드]
B21: ┕해산 및 청산관련 서류 | C21: 해산 및 청산 보고서 | D21: [2. 청산펀드]
B22: 2. 핵심운용인력 관련 증빙자료
B23: ┕핵심운용인력 유지율 | C23: 대상펀드의 최초 및 최종 규약(변경 없는 경우에도 최초, 최종으로 구분하여 2개 제출) | D23: [5. 운용인력 현황 및 유지율]
B24: ┕핵심운용인력 재직,경력 | C24: 핵심운용인력 재직 및 경력 증명서, 국민연금가입증명서 | D24: [5. 운용인력 현황 및 유지율]
B25: ┕핵심운용인력 성과 | C25: 타사 성과 증빙자료 (날인 필수) | D25: [4. 운용인력 성과]
C26: 펀드 영업보고서(평가기준일 기준, 운용중인 펀드의 경우) | D26: [4. 운용인력 성과]
C27: 투자 참여 시 역할(발굴/심사 등) 증빙서류(준법감시보고서 등) | D27: [4. 운용인력 성과]
B28: 3. 운용 인력 관련 증빙자료 | C28: 조직도(조직별 구성원 리스트포함) | D28: [5. 운용인력 현황 및 유지율]

Sheet 0. 펀드요약(작성불요)
B2: 2026년 중소기업중앙회 국내 블라인드 제안펀드 현황 요약
B5: 0. 펀드명 | C5: ='1. 개요'!C15:E15 -> 0
B6: 1. 제안회사 | C6: 회사명 | D6: ='1. 개요'!C3:E3 -> 0
C7: 설립일자 | D7: ='1. 개요'!C6 -> 36525 | E7: 최초 펀드 설립일자 | F7: ='1. 개요'!E6 -> 36892
B8: 2. 인력 | C8: 인력구분 | D8: 인력 수 | E8: 인력구분 | F8: 인력 수
C9: 핵심운용인력 | D9: =COUNTA('5. 운용인력 현황 및 유지율'!D4:D6) -> 2 | E9: 전체운용인력(핵운 포함) | F9: =COUNTA('5. 운용인력 현황 및 유지율'!C23:C31) -> 0
B10: 3. 펀드 규모 | C10: 목표 결성 금액 | D10: ='1. 개요'!C22 -> 0 | E10: 최소 결성금액 | F10: ='1. 개요'!E22 -> 0
B11: 4. 운용사 출자액 및 비율 | C11: GP출자액 | D11: ='1. 개요'!C23 -> 0 | E11: GP출자비율 | F11: ='1. 개요'!E23 -> #DIV/0!
B12: 5. 운용사 Track Record | C12: 청산펀드 수익률 | D12: ='2. 청산펀드'!N9 -> #NUM! | E12: 운용중인 펀드 수익률 | F12: ='3. 운용중인 펀드'!O9 -> #NUM!
C13: 청산펀드 Multiple | D13: ='2. 청산펀드'!L9 -> #DIV/0! | E13: 운용중인 펀드 Multiple | F13: ='3. 운용중인 펀드'!M9 -> #DIV/0!
E14: 운용중인 펀드 DPI | F14: ='3. 운용중인 펀드'!I9/'3. 운용중인 펀드'!H9 -> #DIV/0!
B15: 6. 출자확정기관 및 예정기관 | C15: 확정기관 | D15: ='1. 개요'!C27:E27 -> 0 | E15: 출자 확정금액 | F15: ='1. 개요'!C26 -> 0
C16: 예정기관 | D16: ='1. 개요'!C29:E29 -> 0 | E16: 출자 예정금액 | F16: ='1. 개요'!C28:E28 -> #VALUE!
B17: 7. 투자확약금액 비율 | C17: ='1. 개요'!E26 -> #DIV/0!
B18: 8. 성과보수 및 관리보수 | C18: 성과보수 | D18: ='1. 개요'!C20:E20 -> 0 | E18: 관리보수 | F18: ='1. 개요'!C21:E21 -> #VALUE!
B19: 9. 핵심운용인력 유지율 | C19: ='5. 운용인력 현황 및 유지율'!K42 -> #DIV/0!
B20: 10. 출자 요청금액 | C20: ='1. 개요'!C25:E25 -> 100~800억원 이내

Sheet 1. 개요
B2: 1. 운용사 개요
B3: 운용사명
B4: 대표자 | D4: 사업자등록번호
B5: 주소
B6: 운용사 설립일자 | C6: 36525 | D6: VC 펀드 설립일자 | E6: 36892
B7: 펀드 제안 관련 담당자 | C7: 성명/직위
C8: 휴대폰번호
C9: 전화번호
C10: 이메일
B12: 2. 펀드 개요
E13: (단위 : 억원,%)
B14: 펀드유형 | C14: VC
B15: 펀드명
B16: 투자기구
B17: 펀드기간 | C17: 2026-12-31~2034-12-31 | E17: 00년(0년씩 총 0회 연장가능)
B18: 핵심운용인력 | C18: ○명 ((예)○○○대표, ○○○상무, ○○○부장)
B19: 기준수익률
B20: 관리보수
B21: 성과보수
B22: 목표(최소)결성규모
B23: GP출자액¹ | D23: GP출자비율 | E23: =C23/C22 -> #DIV/0!
B24: 운용사 우선손실충당금
B25: 출자요청금액 | C25: 100~800억원 이내
B26: 출자확정금액² | D26: 확정금액 비율 | E26: =C26/C22 -> #DIV/0!
B27: 확정기관 세부내역 | C27: A기관(00억)
B28: 출자예정금액³
B29: 예정기관 세부내역 | C29: B기관(00억)
B30: 1) 제안펀드 대상(병행펀드 제외). 내부 운용인력 출자는 포함하되, 특수관계인 출자분은 제외(운용사 및 내부 운용인력별 출자액 주석으로 기재)
B31: 2) LOC 기준이며, GP출자금 포함하여 기재(GP출자금에 대한 출자확약서도 제출 필수)
B32: 3) 출자확정금액 제외한 검토 기관의 출자예정금액, 유의미한 출자가능성이 있는 경우에 한함(운용사 자체 판단 하에 기재 요망)
B34: 3. 재무현황
E35: (단위 : 백만원,%)
B36: 구분 | C36: 2023년도 | D36: 2024년도 | E36: 2025년도
B37: 유동부채
B38: 고정부채
B39: 부채총계
B40: 자본금
B41: 자본잉여금
B42: 자본총계
B43: 영업수익
...

Sheet 2. 청산펀드
B2: ※ 증빙서류에 해당 거래 건 형광펜으로 마킹
B3: 1. 청산 펀드 현황
P4: (단위 : 백만원,%)
B5: 조합고유번호 (펀드) | C5: 펀드명 | D5: 펀드유형 | E5: 결성일(투자기간) | F5: 청산일 | G5: 펀드 약정금액 | H5: 펀드 납입금액(A) | I5: 펀드 분배금액(B) | J5: 투자자산 투자금액 | K5: 투자자산 회수금액 | L5: Multiple(B/A) | M5: 수익률(Gross IRR) | N5: 수익률(Net IRR) | O5: 법적 투자기구 (반드시 정확한 명칭으로 기재) | P5: Co-GP 여부(Y/N)
C6: Fund1 | D6: 블라인드 | H6: =D21 -> 0 | I6: =E21 -> 0 | J6: ='2.-(1) 현금흐름(청산펀드)'!F20 -> 0 | K6: ='2.-(1) 현금흐름(청산펀드)'!G20 -> 0 | L6: =G21 -> #DIV/0! | M6: ='2.-(1) 현금흐름(청산펀드)'!J20 -> #NUM! | N6: =H21 -> #NUM! | P6: Y(ㅇㅇ사)
C7: Fund2 | D7: 프로젝트 | H7: =D30 -> 0 | I7: =E30 -> 0 | J7: ='2.-(1) 현금흐름(청산펀드)'!F37 -> 0 | K7: ='2.-(1) 현금흐름(청산펀드)'!G37 -> 0 | L7: =G30 -> #DIV/0! | M7: ='2.-(1) 현금흐름(청산펀드)'!J37 -> #NUM! | N7: =H30 -> #NUM!
C8: Fund3 | H8: =D39 -> 0 | I8: =E39 -> 0 | J8: ='2.-(1) 현금흐름(청산펀드)'!F54 -> 0 | K8: ='2.-(1) 현금흐름(청산펀드)'!G54 -> 0 | L8: =G39 -> #DIV/0! | M8: ='2.-(1) 현금흐름(청산펀드)'!J54 -> #NUM! | N8: =H39 -> #NUM!
B9: 합계(평균) | G9: =+SUM(G6:G8) -> 0 | H9: =+SUM(H6:H8) -> 0 | I9: =+SUM(I6:I8) -> 0 | J9: =+SUM(J6:J8) -> 0 | K9: =+SUM(K6:K8) -> 0 | L9: =+SUMPRODUCT(L6:L8,H6:H8)/H9 -> #DIV/0! | M9: =+SUMPRODUCT(H6:H8,M6:M8)/H9 -> #NUM! | N9: =+SUMPRODUCT(H6:H8,N6:N8)/H9 -> #NUM!
B10: * '25.12.31 기준 청산 완료 펀드
B11: * 기준일 10년 이내 청산된 펀드 대상(2016.01.01~2025.12.31)
B13: 2. 현금흐름
H14: (단위 : 백만원,%)
B15: 펀드명 | C15: 일자 | D15: 펀드 납입금액(A) | E15: 펀드 분배금액(B) | F15: 현금흐름(B-A) | G15: Multiple(B/A) | H15: 수익률(Net IRR)
B16: Fund1 | C16: 36526 | F16: =E16-D16 -> 0
F17: =E17-D17 -> 0
F18: =E18-D18 -> 0
F19: =E19-D19 -> 0
E20: =M31 -> 0 | F20: =E20-D20 -> 0
B21: 소 계 | D21: =+SUM(D16:D20) -> 0 | E21: =+SUM(E16:E20) -> 0 | F21: =+SUM(F16:F20) -> 0 | G21: =+E21/D21 -> #DIV/0! | H21: =XIRR(F16:F20,C16:C20) -> #NUM!
H23: (단위 : 백만원,%)
B24: 펀드명 | C24: 일자 | D24: 펀드 납입금액(A) | E24: 펀드 분배금액(B) | F24: 현금흐름(B-A) | G24: Multiple(B/A) | H24: 수익률(Net IRR)
B25: Fund2 | F25: =E25-D25 -> 0
F26: =E26-D26 -> 0
F27: =E27-D27 -> 0
F28: =E28-D28 -> 0
F29: =E29-D29 -> 0
B30: 소 계 | D30: =+SUM(D25:D29) -> 0 | E30: =+SUM(E25:E29) -> 0 | F30: =+SUM(F25:F29) -> 0 | G30: =+E30/D30 -> #DIV/0! | H30: =XIRR(F25:F29,C25:C29) -> #NUM!
H32: (단위 : 백만원,%)
B33: 펀드명 | C33: 일자 | D33: 펀드 납입금액(A) | E33: 펀드 분배금액(B) | F33: 현금흐름(B-A) | G33: Multiple(B/A) | H33: 수익률(Net IRR)
B34: Fund3 | F34: =E34-D34 -> 0
F35: =E35-D35 -> 0
F36: =E36-D36 -> 0
F37: =E37-D37 -> 0
F38: =E38-D38 -> 0
B39: 소 계 | D39: =+SUM(D34:D38) -> 0 | E39: =+SUM(E34:E38) -> 0 | F39: =+SUM(F34:F38) -> 0 | G39: =+E39/D39 -> #DIV/0! | H39: =XIRR(F34:F38,C34:C38) -> #NUM!
B40: *통장사본에 형광팬으로 해당 부분 표시, 금액 불일치 시 엑셀에 사유 기재

Sheet 2.-(1) 현금흐름(청산펀드)
B2: 1. 청산펀드 현금흐름
K3: (단위 : 백만원,%)
B4: 펀드명 | C4: 회사명 | D4: 투자형태 | E4: 일자 | F4: 투자자산 투자금액(A) | G4: 투자자산 회수금액(B) | H4: 현금흐름(B-A) | I4: Multiple(B/A) | J4: Gross IRR | K4: Co-GP 여부
B5: Fund1 | C5: Comp 1 | D5: 보통주 | E5: 36526 | H5: =G5-F5 -> 0
H6: =G6-F6 -> 0
H7: =G7-F7 -> 0
H8: =G8-F8 -> 0
H9: =G9-F9 -> 0 | I9: =SUM(G5:G9)/SUM(F5:F9) -> #DIV/0! | J9: =XIRR(H5:H9,E5:E9) -> #NUM!
C10: Comp 2 | D10: RCPS | H10: =G10-F10 -> 0
H11: =G11-F11 -> 0
H12: =G12-F12 -> 0
H13: =G13-F13 -> 0
H14: =G14-F14 -> 0 | I14: =SUM(G10:G14)/SUM(F10:F14) -> #DIV/0! | J14: =XIRR(H10:H14,E10:E14) -> #NUM!
C15: Comp 3 | D15: CB | H15: =G15-F15 -> 0
H16: =G16-F16 -> 0
H17: =G17-F17 -> 0
H18: =G18-F18 -> 0
H19: =G19-F19 -> 0 | I19: =SUM(G15:G19)/SUM(F15:F19) -> #DIV/0! | J19: =XIRR(H15:H19,E15:E19) -> #NUM!
B20: 소계 | F20: =SUM(F5:F19) -> 0 | G20: =SUM(G5:G19) -> 0 | H20: =SUM(H5:H19) -> 0 | I20: =SUM(G20)/SUM(F20) -> #DIV/0! | J20: =XIRR(H5:H19,E5:E19) -> #NUM!
B22: Fund2 | C22: Comp 4 | H22: =G22-F22 -> 0
H23: =G23-F23 -> 0
H24: =G24-F24 -> 0
H25: =G25-F25 -> 0
H26: =G26-F26 -> 0 | I26: =SUM(G22:G26)/SUM(F22:F26) -> #DIV/0! | J26: =XIRR(H22:H26,E22:E26) -> #NUM!
C27: Comp 5 | H27: =G27-F27 -> 0
H28: =G28-F28 -> 0
H29: =G29-F29 -> 0
H30: =G30-F30 -> 0
H31: =G31-F31 -> 0 | I31: =SUM(G27:G31)/SUM(F27:F31) -> #DIV/0! | J31: =XIRR(H27:H31,E27:E31) -> #NUM!
C32: Comp 6 | H32: =G32-F32 -> 0
H33: =G33-F33 -> 0
H34: =G34-F34 -> 0
H35: =G35-F35 -> 0
H36: =G36-F36 -> 0 | I36: =SUM(G32:G36)/SUM(F32:F36) -> #DIV/0! | J36: =XIRR(H32:H36,E32:E36) -> #NUM!
B37: 소계 | F37: =SUM(F22:F36) -> 0 | G37: =SUM(G22:G36) -> 0 | H37: =SUM(H22:H36) -> 0 | I37: =SUM(G37)/SUM(F37) -> #DIV/0! | J37: =XIRR(H22:H36,E22:E36) -> #NUM!
B39: Fund3 | C39: Comp 7 | H39: =G39-F39 -> 0
H40: =G40-F40 -> 0
H41: =G41-F41 -> 0
H42: =G42-F42 -> 0
H43: =G43-F43 -> 0 | I43: =SUM(G39:G43)/SUM(F39:F43) -> #DIV/0! | J43: =XIRR(H39:H43,E39:E43) -> #NUM!
...

Sheet 3. 운용중인 펀드
B2: ※ 증빙서류에 해당 거래 건 형광펜으로 마킹
B3: 1. 운용중인 펀드 현황
Q4: (단위 : 백만원,%)
B5: 조합고유번호 (펀드) | C5: 펀드명 | D5: 펀드유형 | E5: 결성일(투자기간) | F5: 청산예정일 | G5: 펀드 약정금액 | H5: 펀드 납입금액 | I5: 펀드 분배금액 | J5: 투자자산 투자금액(A) | K5: 투자자산 회수금액(B) | L5: 투자자산 미회수가치(C) | M5: Multiple | N5: 수익률(Gross IRR) | O5: 수익률(Net IRR) | P5: 법적 투자기구명 (반드시 정확한 명칭으로 기재) | Q5: Co-GP 여부(Y/N)
C6: Fund1 | D6: 블라인드 | H6: =E32 -> 0 | I6: =F32 -> 0 | J6: ='3.-(2) 현금흐름(운용중인 펀드)'!F30 -> 500 | K6: ='3.-(2) 현금흐름(운용중인 펀드)'!G30 -> 150 | L6: ='3.-(2) 현금흐름(운용중인 펀드)'!H30 -> 500 | M6: =(F32+G32)/E32 -> #DIV/0! | N6: ='3.-(2) 현금흐름(운용중인 펀드)'!L30 -> #NUM! | O6: =J32 -> #NUM! | Q6: Y(ㅇㅇ사)
C7: Fund2 | D7: 프로젝트 | H7: =E41 -> 0 | I7: =F41 -> 0 | J7: ='3.-(2) 현금흐름(운용중인 펀드)'!F52 -> 0 | K7: ='3.-(2) 현금흐름(운용중인 펀드)'!G52 -> 0 | L7: ='3.-(2) 현금흐름(운용중인 펀드)'!H52 -> 0 | M7: =(F41+G41)/E41 -> #DIV/0! | N7: ='3.-(2) 현금흐름(운용중인 펀드)'!L52 -> #NUM! | O7: =J41 -> #NUM!
C8: Fund3 | H8: =E50 -> 0 | I8: =F50 -> 0 | M8: =(F50+G50)/E50 -> #DIV/0! | O8: =J50 -> #NUM!
B9: 합계(평균) | G9: =+SUM(G6:G8) -> 0 | H9: =+SUM(H6:H8) -> 0 | I9: =+SUM(I6:I8) -> 0 | J9: =+SUM(J6:J8) -> 500 | K9: =+SUM(K6:K8) -> 150 | L9: =+SUM(L6:L8) -> 500 | M9: =+SUMPRODUCT(M6:M8,H6:H8)/H9 -> #DIV/0! | N9: =+SUMPRODUCT(N6:N8,H6:H8)/H9 -> #NUM! | O9: =+SUMPRODUCT(H6:H8,O6:O8)/H9 -> #NUM!
B10: *25.12.31 기준 만기연장 및 청산 중인 펀드 포함
B11: *[투자자산 미회수가치] 기준일('25.12.31) 이후 회수완료된 자산의 경우에도 기준일 기준 평가금액 기재. 별도 주석 또는 메모에 실제 회수금액 기재
B13: 2. 현금흐름
B14: ※ [펀드 NAV] 펀드 재무상태표, 예금잔액 확인할 수 있는 자료(통장사본 등), 투자자산별 공정가치평가보고서 등 증빙자료 必. 증빙 제출 시 항목별 산출근거 기재 | S14: 2-2. SPC NAV 산출내역(예시, SPC별 작성, 미회수자산은 3-(2) 값과 동일해야함)
B15: ※ 미회수 자산은 투자자산별 장부가액 또는 평가금액 기재하고, NAV 산정시 직전 기말 성과보수, 예상성과보수 등 모두 차감하여 기재 | L15: 2-1. NAV 산출내역(예시, 펀드별 작성, 미회수자산은 3-(2) 값과 동일해야함) | S15: ※ 해당없는 경우, 작성제외
J16: (단위 : 백만원,%) | L16: 펀드명 | M16: =C18 -> Fund1 | Q16: (단위 : 백만원) | S16: SPC명 | T16: OO 1호 유한회사 | X16: (단위 : 백만원)
B17: 조합고유번호 (펀드) | C17: 펀드명 | D17: 일자 | E17: 펀드 납입금액(A) | F17: 펀드 분배금액(B) | G17: 펀드 NAV(C) | H17: 현금흐름(B+C-A) | I17: DPI(B/A) | J17: 수익률(Net IRR) | L17: 구분 | M17: 투자형태 | N17: 장부가액/평가액 | O17: 보유주식수 | P17: 주당가치 | Q17: 산출근거 (필수기재) | S17: 계정과목 | T17: 투자형태 | U17: 장부가액/평가액 | V17: 보유주식수 | W17: 주당가치 | X17: 평가금액 산출근거 (필수기재)
B18: =B6 -> 0 | C18: Fund1 | H18: =F18+G18-E18 -> 0 | L18: 1. 운용자산 | N18: =N19+N20 -> 790 | S18: 1. 운용자산 | U18: =U19+U20 -> 400
H19: =F19+G19-E19 -> 0 | L19: (1) 현금 및 현금성자산 | N19: 100 | Q19: 예금잔액 | S19: (1) 현금 및 현금성자산 | U19: 100 | X19: 예금잔액
H20: =F20+G20-E20 -> 0 | L20: (2) 유가증권 | N20: =SUM(N21:N23) -> 690 | S20: (2) 유가증권 | U20: =SUM(U21:U23) -> 300
H21: =F21+G21-E21 -> 0 | L21: OO 1호 유한회사 | M21: SPC | N21: =U32 -> 350 | Q21: - | S21: Comp 2 | T21: ='3-(1). 세부투자 현황(운용중인 펀드)'!G7 -> RCPS | U21: ='3-(1). 세부투자 현황(운용중인 펀드)'!M7 -> 200 | V21: 10000 | W21: 2000 | X21: 10,000주*2,000원=20,000,000원('25.12.31 코스닥 종가)
H22: =F22+G22-E22 -> 0 | L22: OO 2호 유한회사 | M22: SPC | N22: =U54 -> 240 | Q22: - | S22: Comp 3 | T22: ='3-(1). 세부투자 현황(운용중인 펀드)'!G8 -> CB | U22: ='3-(1). 세부투자 현황(운용중인 펀드)'!M8 -> 100 | V22: - | W22: - | X22: 외부기관 공정가치평가('25.12.31, OOO평가사)
H23: =F23+G23-E23 -> 0 | L23: ='3-(1). 세부투자 현황(운용중인 펀드)'!D10 -> Comp 5 | M23: ='3-(1). 세부투자 현황(운용중인 펀드)'!G10 -> 0 | N23: ='3-(1). 세부투자 현황(운용중인 펀드)'!M10 -> 100 | Q23: ='3-(1). 세부투자 현황(운용중인 펀드)'!N6 -> 회수완료
H24: =F24+G24-E24 -> 0 | L24: 2. 기타자산 | N24: 50 | S24: 2. 기타자산 | U24: 100
H25: =F25+G25-E25 -> 0 | L25: 자산총계(운용+기타) | N25: =N18+N24 -> 840 | S25: 자산총계(운용+기타) | U25: =U18+U24 -> 500
H26: =F26+G26-E26 -> 0 | L26: (1) 수수료미지급금 | N26: 50 | S26: (1) 차입금
H27: =F27+G27-E27 -> 0 | L27: (2) 미지급비용 | N27: 30 | S27: (2) 미지급비용
H28: =F28+G28-E28 -> 0 | L28: (3) 기타미지급금 | N28: 20 | S28: (3) 기타미지급금
H29: =F29+G29-E29 -> 0 | L29: (4) 예상성과보수 | N29: 5 | S29: 부채총계 | U29: =SUM(U26:U28) -> 0
H30: =F30+G30-E30 -> 0 | L30: 부채총계 | N30: =SUM(N26:N29) -> 105 | S30: [순자산가치(자산총계-부채총계] | U30: =U25-U29 -> 500
D31: 46022 | G31: =N31 -> 735 | H31: =F31+G31-E31 -> 735 | L31: [순자산가치(자산총계-부채총계] | N31: =N25-N30 -> 735 | S31: 펀드 지분율 | U31: 0.7
B32: 소 계 | E32: =+SUM(E18:E31) -> 0 | F32: =+SUM(F18:F31) -> 0 | G32: =+SUM(G18:G31) -> 735 | H32: =+SUM(H18:H31) -> 735 | I32: =+F32/E32 -> #DIV/0! | J32: =XIRR(H18:H31,D18:D31) -> #NUM! | L32: * 유가증권의 경우 주당가치 x 보유주식수의 산출근거 반드시 작성(보유주식수를 확인할 수 있는 증빙 제출 포함) | S32: 펀드지분금액 | U32: =U30*U31 -> 350 | X32: 평가금액 분배조항 반영 必
L33: * 위의 양식을 참고하여 작성하되, 대상 내역에 맞게 항목 및 양식 등 조정 가능 | S33: *유가증권의 경우 주당가치 x 보유주식수의 산출근거 반드시 작성(보유주식수를 확인할 수 있는 증빙 제출 포함)
J34: (단위 : 백만원,%) | L34: * 유가증권 외에 현금성 자산 및 부채 등은 평가기준일 현재 펀드 재무제표상의 금액과 일치하게 작성 | S34: *위의 양식을 참고하여 작성하되, 대상 내역에 맞게 항목 및 양식 등 조정 가능
B35: 조합고유번호 (펀드) | C35: 펀드명 | D35: 일자 | E35: 펀드 납입금액(A) | F35: 펀드 분배금액(B) | G35: 펀드 NAV(C) | H35: 현금흐름(B+C-A) | I35: DPI(B/A) | J35: 수익률(Net IRR) | L35: * 성과보수 지급이 예상되는 펀드는 평가기준일 현재 성과(NAV)를 기준으로 예상성과보수를 산출하여 기입하고, 그 산출근거를 간략하게 기재 | S35: * 유가증권 외에 현금성 자산 및 부채 등은 평가기준일 현재 재무제표상의 금액과 일치하게 작성
B36: =B7 -> 0 | C36: Fund2 | H36: =F36+G36-E36 -> 0 | S36: * PEF 지분금액의 평가금액은 분배조항을 반영하여 기입하고, 그 산출근거를 간략하게 기재
H37: =F37+G37-E37 -> 0
H38: =F38+G38-E38 -> 0 | S38: SPC명 | T38: OO 2호 유한회사 | X38: (단위 : 백만원)
H39: =F39+G39-E39 -> 0 | S39: 계정과목 | T39: 투자형태 | U39: 장부가액/평가액 | V39: 보유주식수 | W39: 주당가치 | X39: 평가금액 산출근거 (필수기재)
D40: 46022 | H40: =F40+G40-E40 -> 0 | S40: 1. 운용자산 | U40: =U41+U42 -> 200
B41: 소 계 | E41: =+SUM(E36:E40) -> 0 | F41: =+SUM(F36:F40) -> 0 | G41: =+SUM(G36:G40) -> 0 | H41: =+SUM(H36:H40) -> 0 | I41: =+F41/E41 -> #DIV/0! | J41: =XIRR(H36:H40,D36:D40) -> #NUM! | S41: (1) 현금 및 현금성자산 | U41: 100 | X41: 예금잔액
S42: (2) 유가증권 | U42: =SUM(U43:U45) -> 100
...

Sheet 3-(1). 세부투자 현황(운용중인 펀드)
B2: ※ 증빙서류에 해당 거래 건 형광펜으로 마킹
B3: 1. 세부 투자 현황
Y4: (단위 : 백만원, %)
B5: 조합고유번호 (펀드) | C5: 펀드명 | D5: 투자자산 | E5: 사업자등록번호 (투자자산) | F5: 주요사업분야 (섹터) | G5: 투자형태 | H5: 투자일자 | I5: 최종 회수일자 | J5: 회수 | K5: 투자자산 투자금액(A) | L5: 투자자산 회수금액(B) | M5: 투자자산 미회수가치(C) | N5: 미회수 자산 가치 산정 근거 | O5: 총 회수금액(B+C) | P5: Multiple((B+C)/A) | Q5: 수익률(Gross IRR) | R5: 시장성 유무 | S5: 회수방법 | T5: (공동투자시) 동반 투자기관명 | U5: Co-GP 여부 (Y/N) | V5: 신주/구주 | W5: 투자 발굴자 | X5: 투자 심사자 | Y5: 사후관리자
B6: ='3. 운용중인 펀드'!B6 -> 0 | C6: Fund1 | D6: Comp 1 | G6: 보통주 | H6: 36526 | J6: 회수완료 | K6: =SUM('3.-(2) 현금흐름(운용중인 펀드)'!F5:F9) -> 100 | L6: =SUM('3.-(2) 현금흐름(운용중인 펀드)'!G5:G9) -> 100 | M6: =SUM('3.-(2) 현금흐름(운용중인 펀드)'!H5:H9) -> 0 | N6: 회수완료 | O6: =SUM('3.-(2) 현금흐름(운용중인 펀드)'!I5:I9) -> 100 | P6: ='3.-(2) 현금흐름(운용중인 펀드)'!K9 -> 1 | Q6: ='3.-(2) 현금흐름(운용중인 펀드)'!L9 -> #NUM! | R6: N | V6: 신주 | W6: 김OO, 박OO | X6: 박OO | Y6: 김OO
D7: Comp 2 | G7: RCPS | J7: 부분회수 | K7: =SUM('3.-(2) 현금흐름(운용중인 펀드)'!F10:F14) -> 100 | L7: =SUM('3.-(2) 현금흐름(운용중인 펀드)'!G10:G14) -> 50 | M7: =SUM('3.-(2) 현금흐름(운용중인 펀드)'!H10:H14) -> 200 | N7: 10,000주*20,000원=200,000,000원('25.12.31 코스닥 종가) | O7: =SUM('3.-(2) 현금흐름(운용중인 펀드)'!I10:I14) -> 250 | P7: ='3.-(2) 현금흐름(운용중인 펀드)'!K14 -> 2.5 | Q7: ='3.-(2) 현금흐름(운용중인 펀드)'!L14 -> 0.035847244 | R7: 코스닥 | V7: 구주
D8: Comp 3 | G8: CB | J8: 미회수 | K8: =SUM('3.-(2) 현금흐름(운용중인 펀드)'!F15:F19) -> 100 | L8: =SUM('3.-(2) 현금흐름(운용중인 펀드)'!G15:G19) -> 0 | M8: =SUM('3.-(2) 현금흐름(운용중인 펀드)'!H15:H19) -> 100 | N8: 감사보고서('25.12.31) | O8: =SUM('3.-(2) 현금흐름(운용중인 펀드)'!I15:I19) -> 100 | P8: ='3.-(2) 현금흐름(운용중인 펀드)'!K19 -> 1 | Q8: ='3.-(2) 현금흐름(운용중인 펀드)'!L19 -> 2.9802322e-09
D9: Comp 4 | K9: =SUM('3.-(2) 현금흐름(운용중인 펀드)'!F20:F24) -> 100 | L9: =SUM('3.-(2) 현금흐름(운용중인 펀드)'!G20:G24) -> 0 | M9: =SUM('3.-(2) 현금흐름(운용중인 펀드)'!H20:H24) -> 100 | N9: 투자원금 | O9: =SUM('3.-(2) 현금흐름(운용중인 펀드)'!I20:I24) -> 100 | P9: ='3.-(2) 현금흐름(운용중인 펀드)'!K24 -> 1 | Q9: ='3.-(2) 현금흐름(운용중인 펀드)'!L24 -> 2.9802322e-09
D10: Comp 5 | K10: =SUM('3.-(2) 현금흐름(운용중인 펀드)'!F25:F29) -> 100 | L10: =SUM('3.-(2) 현금흐름(운용중인 펀드)'!G25:G29) -> 0 | M10: =SUM('3.-(2) 현금흐름(운용중인 펀드)'!H25:H29) -> 100 | N10: 외부기관 공정가치평가('25.12.31, OOO평가사) | O10: =SUM('3.-(2) 현금흐름(운용중인 펀드)'!I25:I29) -> 100 | P10: ='3.-(2) 현금흐름(운용중인 펀드)'!K29 -> 1 | Q10: ='3.-(2) 현금흐름(운용중인 펀드)'!L29 -> 2.9802322e-09
B11: ='3. 운용중인 펀드'!B7 -> 0 | C11: Fund2 | D11: Comp 6 | I11: 감액의 경우, 감액일자 | K11: =SUM('3.-(2) 현금흐름(운용중인 펀드)'!F32:F36) -> 0 | L11: =SUM('3.-(2) 현금흐름(운용중인 펀드)'!G32:G36) -> 0 | M11: =SUM('3.-(2) 현금흐름(운용중인 펀드)'!H32:H36) -> 0 | N11: 감액 | O11: =SUM('3.-(2) 현금흐름(운용중인 펀드)'!I32:I36) -> 0 | P11: ='3.-(2) 현금흐름(운용중인 펀드)'!K36 -> #DIV/0! | Q11: ='3.-(2) 현금흐름(운용중인 펀드)'!L36 -> #NUM!
D12: Comp 7 | K12: =SUM('3.-(2) 현금흐름(운용중인 펀드)'!F37:F41) -> 0 | L12: =SUM('3.-(2) 현금흐름(운용중인 펀드)'!G37:G41) -> 0 | M12: =SUM('3.-(2) 현금흐름(운용중인 펀드)'!H37:H41) -> 0 | O12: =SUM('3.-(2) 현금흐름(운용중인 펀드)'!I37:I41) -> 0 | P12: ='3.-(2) 현금흐름(운용중인 펀드)'!K41 -> #DIV/0! | Q12: ='3.-(2) 현금흐름(운용중인 펀드)'!L41 -> #NUM!
D13: Comp 8 | K13: =SUM('3.-(2) 현금흐름(운용중인 펀드)'!F42:F46) -> 0 | L13: =SUM('3.-(2) 현금흐름(운용중인 펀드)'!G42:G46) -> 0 | M13: =SUM('3.-(2) 현금흐름(운용중인 펀드)'!H42:H46) -> 0 | O13: =SUM('3.-(2) 현금흐름(운용중인 펀드)'!I42:I46) -> 0 | P13: ='3.-(2) 현금흐름(운용중인 펀드)'!K46 -> #DIV/0! | Q13: ='3.-(2) 현금흐름(운용중인 펀드)'!L46 -> #NUM!
D14: Comp 9 | K14: =SUM('3.-(2) 현금흐름(운용중인 펀드)'!F47:F51) -> 0 | L14: =SUM('3.-(2) 현금흐름(운용중인 펀드)'!G47:G51) -> 0 | M14: =SUM('3.-(2) 현금흐름(운용중인 펀드)'!H47:H51) -> 0 | O14: =SUM('3.-(2) 현금흐름(운용중인 펀드)'!I47:I51) -> 0 | P14: ='3.-(2) 현금흐름(운용중인 펀드)'!K51 -> #DIV/0! | Q14: ='3.-(2) 현금흐름(운용중인 펀드)'!L51 -> #NUM!
B15: 합계(평균) | K15: =+SUM(K6:K14) -> 500 | L15: =+SUM(L6:L14) -> 150 | M15: =+SUM(M6:M14) -> 500 | O15: =+SUM(O6:O14) -> 650 | P15: =+SUMPRODUCT(K6:K14,P6:P14)/K15 -> #DIV/0! | Q15: =+SUMPRODUCT(K6:K14,Q6:Q14)/K15 -> #NUM!

Sheet 3.-(2) 현금흐름(운용중인 펀드)
B2: 1. 운용중인 펀드 현금흐름
M3: (단위 : 백만원,%)
B4: 펀드명 | C4: 회사명 | D4: 투자형태 | E4: 일자 | F4: 투자자산 투자금액(A) | G4: 투자자산 회수금액(B) | H4: 투자자산 미회수가치(C) | I4: 총 회수금액(B+C) | J4: 현금흐름(B+C-A) | K4: Multiple((B+C)/A) | L4: Gross IRR | M4: Co-GP 여부(Y/N)
B5: Fund1 | C5: Comp 1 (회수완료) | D5: 보통주 | E5: 36526 | F5: 100 | I5: =G5+H5 -> 0 | J5: =G5+H5-F5 -> -100
I6: =G6+H6 -> 0 | J6: =G6+H6-F6 -> 0
I7: =G7+H7 -> 0 | J7: =G7+H7-F7 -> 0
I8: =G8+H8 -> 0 | J8: =G8+H8-F8 -> 0
G9: 100 | I9: =G9+H9 -> 100 | J9: =G9+H9-F9 -> 100 | K9: =SUM(I5:I9)/SUM(F5:F9) -> 1 | L9: =XIRR(J5:J9,E5:E9) -> #NUM!
C10: Comp 2 (부분회수) | D10: RCPS | E10: 36526 | F10: 100 | I10: =G10+H10 -> 0 | J10: =G10+H10-F10 -> -100
I11: =G11+H11 -> 0 | J11: =G11+H11-F11 -> 0
I12: =G12+H12 -> 0 | J12: =G12+H12-F12 -> 0
I13: =G13+H13 -> 0 | J13: =G13+H13-F13 -> 0
E14: 46022 | G14: 50 | H14: 200 | I14: =G14+H14 -> 250 | J14: =G14+H14-F14 -> 250 | K14: =SUM(I10:I14)/SUM(F10:F14) -> 2.5 | L14: =XIRR(J10:J14,E10:E14) -> 0.035847244
C15: Comp 3 (미회수) | D15: CB | E15: 36526 | F15: 100 | I15: =G15+H15 -> 0 | J15: =G15+H15-F15 -> -100
I16: =G16+H16 -> 0 | J16: =G16+H16-F16 -> 0
I17: =G17+H17 -> 0 | J17: =G17+H17-F17 -> 0
I18: =G18+H18 -> 0 | J18: =G18+H18-F18 -> 0
E19: 46022 | H19: 100 | I19: =G19+H19 -> 100 | J19: =G19+H19-F19 -> 100 | K19: =SUM(I15:I19)/SUM(F15:F19) -> 1 | L19: =XIRR(J15:J19,E15:E19) -> 2.9802322e-09
C20: Comp 4 (미회수) | E20: 36526 | F20: 100 | I20: =G20+H20 -> 0 | J20: =G20+H20-F20 -> -100
I21: =G21+H21 -> 0 | J21: =G21+H21-F21 -> 0
I22: =G22+H22 -> 0 | J22: =G22+H22-F22 -> 0
I23: =G23+H23 -> 0 | J23: =G23+H23-F23 -> 0
E24: 46022 | H24: 100 | I24: =G24+H24 -> 100 | J24: =G24+H24-F24 -> 100 | K24: =SUM(I20:I24)/SUM(F20:F24) -> 1 | L24: =XIRR(J20:J24,E20:E24) -> 2.9802322e-09
C25: Comp 5 (미회수) | E25: 36526 | F25: 100 | I25: =G25+H25 -> 0 | J25: =G25+H25-F25 -> -100
I26: =G26+H26 -> 0 | J26: =G26+H26-F26 -> 0
I27: =G27+H27 -> 0 | J27: =G27+H27-F27 -> 0
I28: =G28+H28 -> 0 | J28: =G28+H28-F28 -> 0
E29: 46022 | H29: 100 | I29: =G29+H29 -> 100 | J29: =G29+H29-F29 -> 100 | K29: =SUM(I25:I29)/SUM(F25:F29) -> 1 | L29: =XIRR(J25:J29,E25:E29) -> 2.9802322e-09
B30: 소계 | F30: =SUM(F5:F29) -> 500 | G30: =SUM(G5:G29) -> 150 | H30: =SUM(H5:H29) -> 500 | I30: =SUM(I5:I29) -> 650 | J30: =SUM(J5:J29) -> 150 | K30: =SUM(I30)/SUM(F30) -> 1.3 | L30: =XIRR(J5:J29,E5:E29) -> #NUM!
B32: Fund2 | C32: Comp 6 | I32: =G32+H32 -> 0 | J32: =G32+H32-F32 -> 0
I33: =G33+H33 -> 0 | J33: =G33+H33-F33 -> 0
I34: =G34+H34 -> 0 | J34: =G34+H34-F34 -> 0
I35: =G35+H35 -> 0 | J35: =G35+H35-F35 -> 0
E36: 46022 | I36: =G36+H36 -> 0 | J36: =G36+H36-F36 -> 0 | K36: =SUM(I32:I36)/SUM(F32:F36) -> #DIV/0! | L36: =XIRR(J32:J36,E32:E36) -> #NUM!
C37: Comp 7 | I37: =G37+H37 -> 0 | J37: =G37+H37-F37 -> 0
I38: =G38+H38 -> 0 | J38: =G38+H38-F38 -> 0
I39: =G39+H39 -> 0 | J39: =G39+H39-F39 -> 0
I40: =G40+H40 -> 0 | J40: =G40+H40-F40 -> 0
E41: 46022 | I41: =G41+H41 -> 0 | J41: =G41+H41-F41 -> 0 | K41: =SUM(I37:I41)/SUM(F37:F41) -> #DIV/0! | L41: =XIRR(J37:J41,E37:E41) -> #NUM!
C42: Comp 8 | I42: =G42+H42 -> 0 | J42: =G42+H42-F42 -> 0
...

Sheet 4. 운용인력 성과
B2: 1-1. 핵심운용인력 성과(회수완료 자산) * 감액자산 포함
U3: (단위 : 백만원, %)
B4: 성명 | C4: 조합고유번호 (펀드) | D4: 펀드명 | E4: 펀드유형 | F4: 법적 투자기구명 (반드시 정확한 명칭으로 기재) | G4: 투자자산 | H4: 역할 | I4: 사업자등록번호 (투자자산) | J4: 주요사업분야 (섹터) | K4: 투자형태 | L4: 투자일자 | M4: 최종 회수일자 | N4: 투자자산 투자금액(A) | O4: 투자자산 회수금액(B) | P4: Multiple((B/A) | Q4: 수익률(Gross IRR) | R4: 시장성 유무(회수시점) | S4: 회수방법 | T4: Co-GP 유무(Y/N) | U4: 신주/구주
B5: AAA | E5: 블라인드 | G5: Comp 1 | H5: 투자 건에 대한 발굴, 심사, 사후관리 중 한 개 이상의 역할 기재. 이외 역할 기재 불가 | K5: 보통주 | N5: =SUM(I27:I31) -> 100 | O5: =SUM(J27:J31) -> 100 | P5: =L31 -> 1 | Q5: =M31 -> #NUM! | R5: 코스닥 | U5: 신주
E6: 프로젝트 | G6: Comp 2 | K6: RCPS | N6: =SUM(I32:I36) -> 100 | O6: =SUM(J32:J36) -> 50 | P6: =L36 -> 0.5 | Q6: =M36 -> #NUM! | R6: N | U6: 구주
G7: Comp 3 | K7: CB | N7: =SUM(I37:I41) -> 100 | O7: =SUM(J37:J41) -> 0 | P7: =L41 -> 0 | Q7: =M41 -> #NUM!
G8: Comp 4 | N8: =SUM(I42:I46) -> 0 | O8: =SUM(J42:J46) -> 0 | P8: =L46 -> 0 | Q8: =M46 -> #NUM!
G9: Comp 5 | N9: =SUM(I47:I51) -> 0 | O9: =SUM(J47:J51) -> 0 | P9: =L51 -> 0 | Q9: =M51 -> #NUM!
B10: BBB | G10: Comp 6 | N10: =SUM(I55:I59) -> 0 | O10: =SUM(J55:J59) -> 0 | P10: =L59 -> #DIV/0! | Q10: =M59 -> #NUM!
G11: Comp 7
G12: Comp 8
G13: Comp 9
G14: Comp 10
B15: CCC | G15: Comp 11
G16: Comp 12
G17: Comp 13
G18: Comp 14
G19: Comp 15
B20: * 과거 직장 실적 포함 및 인력별 투자자산 중복 가능
B21: * 기준일 10년 이내 회수된 자산 대상(2016.01.01~2025.12.31)
B23: ※ 증빙서류에 해당 거래 건 형광펜으로 마킹
B24: 1-2. 회수완료 자산 현금흐름
N25: (단위 : 백만원,%)
B26: 성명 | C26: 조합고유번호 (펀드) | D26: 펀드명 | E26: 회사명 | F26: 사업자등록번호 (투자자산) | G26: 투자형태 | H26: 일자 | I26: 투자자산 투자금액(A) | J26: 투자자산 회수금액(B) | K26: 현금흐름(B-A) | L26: Multiple(B/A) | M26: Gross IRR | N26: Co-GP 여부(Y/N)
B27: =B5 -> AAA | C27: =C5 -> 0 | D27: =D5 -> 0 | E27: =G5 -> Comp 1 | F27: =I5 -> 0 | G27: =K5 -> 보통주 | H27: 36526 | I27: 100 | K27: =J27-I27 -> -100
K28: =J28-I28 -> 0
K29: =J29-I29 -> 0
K30: =J30-I30 -> 0
J31: 100 | K31: =J31-I31 -> 100 | L31: =SUM(J27:J31)/SUM(I27:I31) -> 1 | M31: =XIRR(K27:K31,H27:H31) -> #NUM!
C32: =C6 -> 0 | D32: =D6 -> 0 | E32: =G6 -> Comp 2 | F32: =I6 -> 0 | G32: =K6 -> RCPS | H32: 36526 | I32: 100 | K32: =J32-I32 -> -100
K33: =J33-I33 -> 0
K34: =J34-I34 -> 0
K35: =J35-I35 -> 0
J36: 50 | K36: =J36-I36 -> 50 | L36: =SUM(J32:J36)/SUM(I32:I36) -> 0.5 | M36: =XIRR(K32:K36,H32:H36) -> #NUM!
C37: =C7 -> 0 | D37: =D7 -> 0 | E37: =G7 -> Comp 3 | F37: =I7 -> 0 | G37: =K7 -> CB | H37: 36526 | I37: 100 | K37: =J37-I37 -> -100
K38: =J38-I38 -> 0
K39: =J39-I39 -> 0
K40: =J40-I40 -> 0
K41: =J41-I41 -> 0 | L41: =SUM(J37:J41)/SUM(I37:I41) -> 0 | M41: =XIRR(K37:K41,H37:H41) -> #NUM!
C42: =C8 -> 0 | D42: =D8 -> 0 | E42: =G8 -> Comp 4 | F42: =I8 -> 0 | G42: =K8 -> 0 | K42: =J42-I42 -> 0
...

Sheet 5. 운용인력 현황 및 유지율
B2: 1. 핵심운용인력 세부현황
B3: 구분 | C3: 직위 | D3: 성명 | E3: 출생년도 | F3: 상세학력 | G3: 대체투자경력 | H3: 근속년수 | I3: 역할 | J3: 처벌경력 | K3: 주요 투자분야 | L3: 주요 투자명 | M3: 연락처 | N3: 이메일 | O3: 입사일
B4: 핵심운용인력 | D4: =D11 -> OOO | G4: =N11 -> 15.164384 | H4: =L11 -> 15.008219
D5: =D14 -> XXX | G5: =N14 -> 15.534247 | H5: =L14 -> 15.008219
C7: 합계(평균) | G7: =+AVERAGE(G4:G6) -> 15.349315 | H7: =+AVERAGE(H4:H6) -> 15.008219
B9: 2. 개인별 경력
B10: 구분 | C10: 직위 | D10: 성명 | E10: 직장명 | F10: 업종* | G10: 부서명 | H10: 직위 | I10: 수행업무 | J10: 경력시작일 | K10: 경력종료일 | L10: 경력년수 | M10: 대체투자경력 여부 | N10: 대체투자경력 년수
B11: 핵심운용인력 | D11: OOO | E11: 제안운용사 | J11: 40544 | K11: 46022 | L11: =(K11-J11)/365 -> 15.008219 | M11: A | N11: =SUMIF(M11:M13,"A",L11:L13)+(SUMIF(M11:M13,"B",L11:L13)*0.5) -> 15.164384
J12: 40118 | K12: 40232 | L12: =(K12-J12)/365 -> 0.31232877 | M12: B
J13: 39847 | K13: 40117 | L13: =(K13-J13)/365 -> 0.73972603 | M13: N
D14: XXX | E14: 제안운용사 | J14: 40544 | K14: 46022 | L14: =(K14-J14)/365 -> 15.008219 | M14: A | N14: =SUMIF(M14:M16,"A",L14:L16)+(SUMIF(M14:M16,"B",L14:L16)*0.5) -> 15.534247
J15: 40118 | K15: 40232 | L15: =(K15-J15)/365 -> 0.31232877 | M15: B
J16: 39847 | K16: 40117 | L16: =(K16-J16)/365 -> 0.73972603 | M16: B
B17: *재직/경력 증빙서류로 경력 및 근속년수 증빙가능해야함
B18: *현 재직중인 회사의 경력종료일은 평가기준일(2025-12-31)로 작성
B19: *해당 직장이 어떤 업종에 속하는지 주요 사업 내용을 기입(증권사, 은행, 경영컨설팅, 제조업, 회계법인 등)
B21: 3. 운용인력 현황 (제안 유형 기준) * 평가기준일 : 25.12.31
B22: 부서명 | C22: 성명 | D22: 직위 | E22: 입사일자 (yyyy-mm-dd) | F22: 퇴사일자 (재직중) | G22: 담당업무
B32: * VC 부문 운용인력만 작성(전사 운용인력 기준)
B33: * 대표이사가 해당 부문 운용에 참여하는 경우 대표이사도 포함하여 작성 (평가기준일 현재 조직도 증빙 제출)
B35: 4. 핵심 운용인력 유지율
B36: 구분 | C36: 조합고유번호 (펀드) | D36: 펀드명 | E36: 설립일 | F36: 청산(예정)일 | G36: 설립시(최초 정관상) | I36: 청산시(또는 제안 기준일) | K36: 유지율 | L36: Co-GP 여부(Y/N)
G38: 핵심운용인력 | H38: 인원수 | I38: 핵심운용인력 | J38: 인원수¹
B39: 청산펀드 | D39: Fund1 | G39: A,B,C | H39: 3 | I39: A,C,D | J39: 2 | K39: =J39/H39 -> 0.66666667
B40: 운용중인펀드 | D40: Fund2 | G40: A,B,C | H40: 3 | I40: A,B,C | J40: 3 | K40: =J40/H40 -> 1
B41: 운용중인펀드 | D41: Fund3 | K41: =J41/H41 -> #DIV/0!
B42: 합계(평균) | K42: =AVERAGE(K39:K41) -> #DIV/0!
B43: * 1. 청산시(또는 제안 기준일) 인원수 : 설립시 인력 중 유지중인 인력의 수
B44: * 기준일 10년 이내 설립된 펀드 대상(2016.01.01~2025.12.31)
