Workbook

Sheet ※ 유의사항
B2: < 작성 유의사항 >
B3: ※ Excel 서식, 셀 병합, 수식 변경 금지
B4: ※ 작성 기준일자 : '25.12.31
B5: ※ 동일내용에 한해 Excel과 Hwp 간 입력내용 일치
B6: ※ [0.펀드요약]은 작성 불필요(수식)
B7: ※ 사실과 다른 제안내용이나 허위사실을 기재할 경우 평가대상에서 제외될 수 있으며, 선정 이후에도 선정을 취소할 수 있음
B8: ※ 추가 설명이 필요한 경우 주석 또는 메모 추가 가능
B9: ※ 작성대상기간이 기재되어있지 않은 경우, 전체 기간을 대상으로 작성
B10: ※ 청산·운용중인 펀드 및 운용인력 성과 작성 시 아래 투자기구에 한해서만 작성
B11: - 벤처투자 촉진에 관한 법률」에 의한 벤처투자조합, 舊「중소기업창업지원법」에 의한 중소기업창업투자조합, 舊「벤처기업육성에 관한 특별조치법」에 의한 한국벤처투자조합(KVF),
B12: 「여신전문금융업법」에 의한 신기술투자조합, 「자본시장과 금융투자업에 관한 법률」 창업벤처전문기관전용 사모집합투자기구
B13: ※ 투자기구 작성 시 벤처투자조합 등 관련 근거법령 상의 투자기구를 기재
... B30: 관련 운용 재직경력(A)과 기타 금융기관 및 유관분야(회계법인, 컨설팅, PI투자, 전략적 투자자 등) 재직경력(B) 기재

Sheet 0. 펀드요약(작성불요)
B2: 2026년 중소기업중앙회 국내 블라인드 VC 제안펀드 현황 요약
B5: 0. 펀드명 | C5: ='1. 개요'!C14:E14 -> 0
B6: 1. 제안회사 | C6: 회사명 | D6: ='1. 개요'!C3 -> 0
C7: 설립일자 | D7: ='1. 개요'!C6 -> 36525 | E7: 최초 펀드 설립일자 | F7: ='1. 개요'!E6 -> 36892
B8: 2. 인력 | C8: 인력구분 | E8: 인력 수
C9: 핵심운용인력 | D9: ='5. 운용 및 관리인력 상세'!C28 -> 0 | E9: 일반운용인력 | F9: ='5. 운용 및 관리인력 상세'!C29 -> 0
C10: 투자관리인력 | D10: ='5. 운용 및 관리인력 상세'!C30 -> 0 | E10: 그외 기타인력 | F10: ='5. 운용 및 관리인력 상세'!C31 -> 0
C11: 총 인원 | F11: =D9+F9+D10+F10 -> 0
B12: 3. 펀드 규모 | C12: 목표 결성 금액 | D12: ='1. 개요'!C21 -> 0 | E12: 최소 결성금액 | F12: ='1. 개요'!E21 -> 0
B13: 4. 운용사 출자액 및 비율 | C13: GP출자액 | D13: ='1. 개요'!C22 -> 0 | E13: GP출자비율 | F13: ='1. 개요'!E22 -> #DIV/0!
B14: 5. 운용사 Track Record | C14: 청산펀드 수익률 | D14: ='2. 청산펀드'!L9 -> #NUM! | E14: 운용중인 펀드 수익률 | F14: ='3. 운용중인 펀드'!M9 -> #NUM!
C15: 청산펀드 Multiple | D15: ='2. 청산펀드'!J9 -> #DIV/0! | E15: 운용중인 펀드 Multiple | F15: ='3. 운용중인 펀드'!K9 -> #DIV/0!
E16: 운용중인 펀드 DPI | F16: ='3. 운용중인 펀드'!G9/'3. 운용중인 펀드'!F9 -> #DIV/0!
B17: 6. 핵심운용인력 Track Record | C17: 청산펀드 수익률 | D17: ='4. 운용인력 성과'!P20 -> #NUM! | E17: 운용중인 펀드 수익률 | F17: ='4. 운용인력 성과'!P39 -> #NUM!
C18: 청산펀드 Multiple | D18: ='4. 운용인력 성과'!O20 -> #DIV/0! | E18: 운용중인 펀드 Multiple | F18: ='4. 운용인력 성과'!O39 -> #DIV/0!
B20: 7. 출자확정기관 및 예정기관 | C20: 확정기관 | D20: ='1. 개요'!C25 -> A기관(00억) | E20: 출자 확정금액 | F20: ='1. 개요'!C24 -> 0
C21: 예정기관 | D21: ='1. 개요'!C27 -> B기관(00억) | E21: 출자 예정금액 | F21: ='1. 개요'!C26 -> 0
B22: 8. 투자확약금액 비율 | C22: =F20/F12 -> #DIV/0!
B23: 9. 성과보수 및 관리보수 | C23: 성과보수 | D23: ='1. 개요'!C20 -> 0 | E23: 관리보수 | F23: ='1. 개요'!C19 -> 0
B24: 10. 핵심운용인력 유지율 | C24: ='5. 운용 및 관리인력 상세'!J43 -> #DIV/0!
B25: 11. 본회 출자요청액 | C25: ='1. 개요'!C28:E28 -> 0

Sheet 1. 개요
B2: 1. 운용사 개요
B3: 운용사명
B4: 대표자 | D4: 사업자등록번호
B5: 주소
B6: 운용사 설립일자 | C6: 36525 | D6: VC 펀드 설립일자 | E6: 36892
B7: 펀드 제안 관련 담당자 | C7: 성명/직위
C8: 휴대폰번호
C9: 전화번호
C10: 이메일
B12: 2. 펀드 개요
E13: (단위 : 억원,%)
B14: 펀드명
B15: 투자기구
B16: 펀드기간 | C16: 2026-01-01~2035-12-31 | E16: 00년(0년씩 총 0회 연장가능)
B17: 핵심운용인력 | C17: ○명 ((예)○○○대표, ○○○상무, ○○○부장)
B18: 기준수익률
B19: 관리보수
B20: 성과보수
B21: 목표결성규모 | D21: 최소결성규모
B22: GP출자액¹ | D22: GP출자비율(최소대비) | E22: =C22/E21 -> #DIV/0!
B23: 운용사 우선손실충당금
B24: 출자확정금액² | D24: 확정금액 비율(최소대비) | E24: =C24/E21 -> #DIV/0!
B25: 확정기관 세부내역 | C25: A기관(00억)
B26: 출자예정금액³
B27: 예정기관 세부내역 | C27: B기관(00억)
B28: 본회 출자요청액
B29: 1) 제안펀드 대상(병행펀드 제외). 내부 운용인력 출자는 포함하되, 특수관계인 출자분은 제외(운용사 및 내부 운용인력별 출자액 주석으로 기재)
B30: 2) LOC 기준이며, GP출자금 포함하여 기재
B31: 3) 출자확정금액 제외한 검토 기관의 출자예정금액, 유의미한 출자가능성이 있는 경우에 한함
B33: 3. 재무현황
E34: (단위 : 백만원,%)
B35: 구분 | C35: 2023년도 | D35: 2024년도 | E35: 2025년도
B36: 유동부채
B37: 고정부채
B38: 부채총계
B39: 자본금
B40: 자본잉여금
B41: 자본총계
B42: 영업수익
B43: 영업비용
...

Sheet 2. 청산펀드
B2: ※ 증빙서류에 해당 거래 건 형광펜으로 마킹
B3: 1. 청산 펀드 현황
P4: (단위 : 백만원,%)
B5: 펀드명 | C5: 결성일(투자기간) | D5: 청산(예정)일 | E5: 펀드 약정금액 | F5: 펀드 납입금액(A) | G5: 펀드 분배금액(B) | H5: 투자자산 투자금액 | I5: 투자자산 회수금액 | J5: Multiple(B/A) | K5: 수익률(Gross IRR) | L5: 수익률(Net IRR) | M5: 앵커 투자자 | N5: 투자기구 | O5: Co-GP 여부(Y/N) | P5: LP 리스트(금액, 지분율)
B6: Fund1 | F6: =D21 -> 0 | G6: =E21 -> 45 | H6: ='2-(1). 현금흐름(청산펀드)'!F20 -> 0 | I6: ='2-(1). 현금흐름(청산펀드)'!G20 -> 0 | J6: =G21 -> #DIV/0! | K6: ='2-(1). 현금흐름(청산펀드)'!J20 -> #NUM! | L6: =H21 -> #NUM! | O6: Y(ㅇㅇ사)
B7: Fund2 | F7: =D30 -> 0 | G7: =E30 -> 0 | H7: ='2-(1). 현금흐름(청산펀드)'!F37 -> 0 | I7: ='2-(1). 현금흐름(청산펀드)'!G37 -> 0 | J7: =G30 -> #DIV/0! | K7: ='2-(1). 현금흐름(청산펀드)'!J37 -> #NUM! | L7: =H30 -> #NUM!
B8: Fund3 | F8: =D39 -> 0 | G8: =E39 -> 0 | H8: ='2-(1). 현금흐름(청산펀드)'!F54 -> 0 | I8: ='2-(1). 현금흐름(청산펀드)'!G54 -> 0 | J8: =G39 -> #DIV/0! | K8: ='2-(1). 현금흐름(청산펀드)'!J54 -> #NUM! | L8: =H39 -> #NUM!
B9: 합계(평균) | E9: =+SUM(E6:E8) -> 0 | F9: =+SUM(F6:F8) -> 0 | G9: =+SUM(G6:G8) -> 45 | H9: =+SUM(H6:H8) -> 0 | I9: =+SUM(I6:I8) -> 0 | J9: =+SUMPRODUCT(J6:J8,F6:F8)/F9 -> #DIV/0! | K9: =+SUMPRODUCT(F6:F8,K6:K8)/F9 -> #NUM! | L9: =+SUMPRODUCT(F6:F8,L6:L8)/F9 -> #NUM!
B10: *’25.12.31 기준 해산 후 잔여 창업투자자산이 없는 펀드만 기재. 기준일 이후 청산완료된 경우 실제 청산완료일을 기재하고, 청산완료된 펀드임을 주석으로 기재
B12: 2. 현금흐름
B13: ※ 미회수 자산이 있는 경우, [펀드별 분배금액] 마지막 칸(해당 양식에서 E20, 29, 38를 의미)에 공정가치 평가가 반영된 NAV 기재. 관련 증빙자료 제출 必. NAV 산출시 예상성과보수 차감하여 반영 | K13: 2-1. NAV 산출내역(예시, 펀드별 작성, 청산완료펀드는 대상아님)
H14: (단위 : 백만원,%) | O14: (단위 : 백만원)
B15: 펀드명 | C15: 일자 | D15: 펀드 납입금액(A) | E15: 펀드 분배금액(B) | F15: 현금흐름(B-A) | G15: Multiple(B/A) | H15: 수익률(Net IRR) | K15: 구분 | L15: 장부가액/평가액 | M15: 보유주식수 | N15: 주당가치 | O15: 산출근거 (필수기재)
B16: Fund1 | F16: =E16-D16 -> 0 | K16: 1. 운용자산 | L16: =L17+L18 -> 100
F17: =E17-D17 -> 0 | K17: (1) 현금 및 현금성자산 | L17: 100 | O17: 예금잔액
F18: =E18-D18 -> 0 | K18: (2) 유가증권 | L18: =L19+L20+L21 -> 0
F19: =E19-D19 -> 0 | K19: - FUND1의 Comp 1 | L19: 0 | O19: 회수완료건은 해당 없음
E20: =L29 -> 45 | F20: =E20-D20 -> 45 | K20: - FUND1의 Comp 2 | L20: 0 | O20: 회수완료건은 해당 없음
B21: 소 계 | D21: =+SUM(D16:D20) -> 0 | E21: =+SUM(E16:E20) -> 45 | F21: =+SUM(F16:F20) -> 45 | G21: =+E21/D21 -> #DIV/0! | H21: =XIRR(F16:F20,C16:C20) -> #NUM! | K21: - FUND1의 Comp 3 | L21: =M21*N21 -> 0 | O21: 외부기관 공정가치평가('24.12.31, OOO평가사)
K22: 2. 기타자산 | L22: 50
H23: (단위 : 백만원,%) | K23: 자산총계(운용+기타) | L23: =L16+L22 -> 150
B24: 펀드명 | C24: 일자 | D24: 펀드 납입금액(A) | E24: 펀드 분배금액(B) | F24: 현금흐름(B-A) | G24: Multiple(B/A) | H24: 수익률(Net IRR) | K24: (1) 수수료미지급금 | L24: 50
B25: Fund2 | F25: =E25-D25 -> 0 | K25: (2) 미지급비용 | L25: 30
F26: =E26-D26 -> 0 | K26: (3) 기타미지급금 | L26: 20
F27: =E27-D27 -> 0 | K27: (4) 예상성과보수 | L27: 5
F28: =E28-D28 -> 0 | K28: 부채총계 | L28: =L24+L25+L26+L27 -> 105
F29: =E29-D29 -> 0 | K29: [순자산가치(자산총계-부채총계] | L29: =L23-L28 -> 45
B30: 소 계 | D30: =+SUM(D25:D29) -> 0 | E30: =+SUM(E25:E29) -> 0 | F30: =+SUM(F25:F29) -> 0 | G30: =+E30/D30 -> #DIV/0! | H30: =XIRR(F25:F29,C25:C29) -> #NUM! | K30: *유가증권의 경우 주당가치 x 보유주식수의 산출근거 반드시 작성(보유주식수를 확인할 수 있는 증빙 제출 포함)
K31: *위의 양식을 참고하여 작성하되, 대상 내역에 맞게 항목 및 양식 등 조정 가능
H32: (단위 : 백만원,%)
B33: 펀드명 | C33: 일자 | D33: 펀드 납입금액(A) | E33: 펀드 분배금액(B) | F33: 현금흐름(B-A) | G33: Multiple(B/A) | H33: 수익률(Net IRR)
B34: Fund3 | F34: =E34-D34 -> 0
F35: =E35-D35 -> 0
F36: =E36-D36 -> 0
F37: =E37-D37 -> 0
F38: =E38-D38 -> 0
B39: 소 계 | D39: =+SUM(D34:D38) -> 0 | E39: =+SUM(E34:E38) -> 0 | F39: =+SUM(F34:F38) -> 0 | G39: =+E39/D39 -> #DIV/0! | H39: =XIRR(F34:F38,C34:C38) -> #NUM!
B40: *통장사본에 형광팬으로 해당 부분 표시, 금액 불일치 시 엑셀에 사유 기재

Sheet 2-(1). 현금흐름(청산펀드)
B2: 1. 청산펀드 현금흐름
K3: (단위 : 백만원,%)
B4: 펀드명 | C4: 회사명 | D4: 투자형태 | E4: 일자 | F4: 투자자산 투자금액(A) | G4: 투자자산 회수금액(B) | H4: 현금흐름(B-A) | I4: Multiple(B/A) | J4: Gross IRR | K4: Co-GP 여부
B5: Fund1 | C5: Comp 1 | D5: 보통주 | H5: =G5-F5 -> 0
H6: =G6-F6 -> 0
H7: =G7-F7 -> 0
H8: =G8-F8 -> 0
H9: =G9-F9 -> 0 | I9: =SUM(G5:G9)/SUM(F5:F9) -> #DIV/0! | J9: =XIRR(H5:H9,E5:E9) -> #NUM!
C10: Comp 2 | D10: RCPS | H10: =G10-F10 -> 0
H11: =G11-F11 -> 0
H12: =G12-F12 -> 0
H13: =G13-F13 -> 0
H14: =G14-F14 -> 0 | I14: =SUM(G10:G14)/SUM(F10:F14) -> #DIV/0! | J14: =XIRR(H10:H14,E10:E14) -> #NUM!
C15: Comp 3 | D15: CB | H15: =G15-F15 -> 0
H16: =G16-F16 -> 0
H17: =G17-F17 -> 0
H18: =G18-F18 -> 0
H19: =G19-F19 -> 0 | I19: =SUM(G15:G19)/SUM(F15:F19) -> #DIV/0! | J19: =XIRR(H15:H19,E15:E19) -> #NUM!
B20: 소계 | F20: =SUM(F5:F19) -> 0 | G20: =SUM(G5:G19) -> 0 | H20: =SUM(H5:H19) -> 0 | I20: =SUM(G20)/SUM(F20) -> #DIV/0! | J20: =XIRR(H5:H19,E5:E19) -> #NUM!
B22: Fund2 | C22: Comp 4 | H22: =G22-F22 -> 0
H23: =G23-F23 -> 0
H24: =G24-F24 -> 0
H25: =G25-F25 -> 0
H26: =G26-F26 -> 0 | I26: =SUM(G22:G26)/SUM(F22:F26) -> #DIV/0! | J26: =XIRR(H22:H26,E22:E26) -> #NUM!
C27: Comp 5 | H27: =G27-F27 -> 0
H28: =G28-F28 -> 0
H29: =G29-F29 -> 0
H30: =G30-F30 -> 0
H31: =G31-F31 -> 0 | I31: =SUM(G27:G31)/SUM(F27:F31) -> #DIV/0! | J31: =XIRR(H27:H31,E27:E31) -> #NUM!
C32: Comp 6 | H32: =G32-F32 -> 0
H33: =G33-F33 -> 0
H34: =G34-F34 -> 0
H35: =G35-F35 -> 0
H36: =G36-F36 -> 0 | I36: =SUM(G32:G36)/SUM(F32:F36) -> #DIV/0! | J36: =XIRR(H32:H36,E32:E36) -> #NUM!
B37: 소계 | F37: =SUM(F22:F36) -> 0 | G37: =SUM(G22:G36) -> 0 | H37: =SUM(H22:H36) -> 0 | I37: =SUM(G37)/SUM(F37) -> #DIV/0! | J37: =XIRR(H22:H36,E22:E36) -> #NUM!
B39: Fund3 | C39: Comp 7 | H39: =G39-F39 -> 0
H40: =G40-F40 -> 0
H41: =G41-F41 -> 0
H42: =G42-F42 -> 0
H43: =G43-F43 -> 0 | I43: =SUM(G39:G43)/SUM(F39:F43) -> #DIV/0! | J43: =XIRR(H39:H43,E39:E43) -> #NUM!
...

Sheet 3. 운용중인 펀드
B2: ※ 증빙서류에 해당 거래 건 형광펜으로 마킹
B3: 1. 운용중인 펀드 현황
Q4: (단위 : 백만원,%)
B5: 펀드명 | C5: 결성일(투자기간) | D5: 청산예정일 | E5: 펀드 약정금액 | F5: 펀드 납입금액 | G5: 펀드 분배금액 | H5: 투자자산 투자금액(A) | I5: 투자자산 회수금액(B) | J5: 투자자산 미회수가치(C) | K5: Multiple((B+C)/A) | L5: 수익률(Gross IRR) | M5: 수익률(Net IRR) | N5: 앵커 투자자 | O5: 투자기구 | P5: Co-GP 여부(Y/N) | Q5: LP 리스트(금액, 지분율)
B6: Fund1 | F6: =D32 -> 0 | G6: =E32 -> 0 | H6: ='3-(2). 현금흐름(운용중인 펀드)'!F20 -> 300 | I6: ='3-(2). 현금흐름(운용중인 펀드)'!G20 -> 150 | J6: ='3-(2). 현금흐름(운용중인 펀드)'!H20 -> 150 | K6: ='3-(2). 현금흐름(운용중인 펀드)'!K20 -> 1 | L6: ='3-(2). 현금흐름(운용중인 펀드)'!L20 -> #NUM! | M6: =I32 -> #NUM! | P6: Y(ㅇㅇ사)
B7: Fund2 | F7: =D41 -> 0 | G7: =E41 -> 0 | H7: ='3-(2). 현금흐름(운용중인 펀드)'!F37 -> 0 | I7: ='3-(2). 현금흐름(운용중인 펀드)'!G37 -> 0 | J7: ='3-(2). 현금흐름(운용중인 펀드)'!H37 -> 0 | K7: ='3-(2). 현금흐름(운용중인 펀드)'!K37 -> #DIV/0! | L7: ='3-(2). 현금흐름(운용중인 펀드)'!L37 -> #NUM! | M7: =I41 -> #NUM!
B8: Fund3 | F8: =D50 -> 0 | G8: =E50 -> 0 | H8: ='3-(2). 현금흐름(운용중인 펀드)'!F54 -> 0 | I8: ='3-(2). 현금흐름(운용중인 펀드)'!G54 -> 0 | J8: ='3-(2). 현금흐름(운용중인 펀드)'!H54 -> 0 | K8: ='3-(2). 현금흐름(운용중인 펀드)'!K54 -> #DIV/0! | L8: ='3-(2). 현금흐름(운용중인 펀드)'!L54 -> #NUM! | M8: =I50 -> #NUM!
B9: 합계(평균) | E9: =+SUM(E6:E8) -> 0 | F9: =+SUM(F6:F8) -> 0 | G9: =+SUM(G6:G8) -> 0 | H9: =+SUM(H6:H8) -> 300 | I9: =+SUM(I6:I8) -> 150 | J9: =+SUM(J6:J8) -> 150 | K9: =+SUMPRODUCT(K6:K8,F6:F8)/F9 -> #DIV/0! | L9: =+SUMPRODUCT(L6:L8,F6:F8)/F9 -> #NUM! | M9: =+SUMPRODUCT(F6:F8,M6:M8)/F9 -> #NUM!
B10: *25.12.31 기준 운용중인 펀드(청산 중이나 잔여 창업투자자산이 있는 펀드, 만기연장 펀드 포함)
B11: *[투자자산 미회수가치] 기준일('25.12.31) 이후 회수완료된 자산의 경우에도 기준일 기준 평가금액 기재. 별도 주석 또는 메모에 실제 회수금액 기재
B13: 2. 현금흐름
B14: ※ [펀드 NAV] 펀드 재무상태표, 예금잔액 확인할 수 있는 자료(통장사본 등), 투자자산별 공정가치평가보고서 등 증빙자료 必. 증빙 제출 시 항목별 산출근거 기재
B15: ※ 미회수 자산은 투자자산별 장부가액 또는 평가금액 기재하고, NAV 산정시 직전 기말 성과보수, 예상성과보수 등 모두 차감하여 기재 | K15: 2-1. NAV 산출내역(예시, 펀드별 작성, 미회수자산은 3-(2) 값과 동일해야함)
I16: (단위 : 백만원,%) | O16: (단위 : 백만원)
B17: 펀드명 | C17: 일자 | D17: 펀드 납입금액(A) | E17: 펀드 분배금액(B) | F17: 펀드 NAV(C) | G17: 현금흐름(B+C-A) | H17: DPI(B/A) | I17: 수익률(Net IRR) | K17: 구분 | L17: 장부가액/평가액 | M17: 보유주식수 | N17: 주당가치 | O17: 산출근거 (필수기재)
B18: Fund1 | G18: =E18+F18-D18 -> 0 | K18: 1. 운용자산 | L18: =L19+L20 -> 250
G19: =E19+F19-D19 -> 0 | K19: (1) 현금 및 현금성자산 | L19: 100 | O19: 예금잔액
G20: =E20+F20-D20 -> 0 | K20: (2) 유가증권 | L20: =L21+L22+L23 -> 150
G21: =E21+F21-D21 -> 0 | K21: - FUND1의 Comp 1 | L21: ='3-(1). 세부투자 현황(운용중인 펀드)'!K6 -> 0 | O21: 회수완료건은 해당 없음
G22: =E22+F22-D22 -> 0 | K22: - FUND1의 Comp 2 | L22: ='3-(1). 세부투자 현황(운용중인 펀드)'!K7 -> 50 | O22: ='3-(1). 세부투자 현황(운용중인 펀드)'!L7 -> 10,000주*2,000원=20,000,000원('25.12.31 코스닥 종가)
G23: =E23+F23-D23 -> 0 | K23: - FUND1의 Comp 3 | L23: ='3-(1). 세부투자 현황(운용중인 펀드)'!K8 -> 100 | O23: ='3-(1). 세부투자 현황(운용중인 펀드)'!L8 -> 감사보고서('25.12.31)
G24: =E24+F24-D24 -> 0 | K24: 2. 기타자산 | L24: 50
G25: =E25+F25-D25 -> 0 | K25: 자산총계(운용+기타) | L25: =L18+L24 -> 300
G26: =E26+F26-D26 -> 0 | K26: (1) 수수료미지급금 | L26: 50
G27: =E27+F27-D27 -> 0 | K27: (2) 미지급비용 | L27: 30
G28: =E28+F28-D28 -> 0 | K28: (3) 기타미지급금 | L28: 20
G29: =E29+F29-D29 -> 0 | K29: (4) 예상성과보수 | L29: 5
G30: =E30+F30-D30 -> 0 | K30: 부채총계 | L30: =L26+L27+L28+L29 -> 105
C31: 45838 | F31: =L31 -> 195 | G31: =E31+F31-D31 -> 195 | K31: [순자산가치(자산총계-부채총계] | L31: =L25-L30 -> 195
B32: 소 계 | D32: =+SUM(D18:D31) -> 0 | E32: =+SUM(E18:E31) -> 0 | F32: =F31 -> 195 | G32: =+SUM(G18:G31) -> 195 | H32: =+E32/D32 -> #DIV/0! | I32: =XIRR(G18:G31,C18:C31) -> #NUM! | K32: *유가증권의 경우 주당가치 x 보유주식수의 산출근거 반드시 작성(보유주식수를 확인할 수 있는 증빙 제출 포함)
K33: *위의 양식을 참고하여 작성하되, 대상 내역에 맞게 항목 및 양식 등 조정 가능
I34: (단위 : 백만원,%)
B35: 펀드명 | C35: 일자 | D35: 펀드 납입금액(A) | E35: 펀드 분배금액(B) | F35: 펀드 NAV(C) | G35: 현금흐름(B+C-A) | H35: DPI(B/A) | I35: 수익률(Net IRR)
B36: Fund2 | G36: =E36+F36-D36 -> 0
G37: =E37+F37-D37 -> 0
G38: =E38+F38-D38 -> 0
G39: =E39+F39-D39 -> 0
C40: 45838 | G40: =E40+F40-D40 -> 0
B41: 소 계 | D41: =+SUM(D36:D40) -> 0 | E41: =+SUM(E36:E40) -> 0 | F41: =F40 -> 0 | G41: =+SUM(G36:G40) -> 0 | H41: =+E41/D41 -> #DIV/0! | I41: =XIRR(G36:G40,C36:C40) -> #NUM!
I43: (단위 : 백만원,%)
...

Sheet 3-(1). 세부투자 현황(운용중인 펀드)
B2: ※ 증빙서류에 해당 거래 건 형광펜으로 마킹
B3: 1. 세부 투자 현황
T4: (단위 : 백만원, %)
B5: 펀드명 | C5: 투자자산 | D5: 주요사업분야 | E5: 투자형태 | F5: 투자일자 | G5: 최종 회수일자 | H5: 회수 | I5: 투자자산 투자금액(A) | J5: 투자자산 회수금액(B) | K5: 투자자산 미회수가치(C) | L5: 미회수 자산 가치 산정 근거 | M5: 총 회수금액(B+C) | N5: Multiple((B+C)/A) | O5: 수익률(Gross IRR) | P5: 시장성 유무 | Q5: 회수방법 | R5: (공동투자시) 동반 투자기관명 | S5: Co-GP 여부 (Y/N) | T5: 신주/구주
B6: Fund1 | C6: Comp 1 | E6: 보통주 | H6: 회수완료 | I6: =SUM('3-(2). 현금흐름(운용중인 펀드)'!F5:F9) -> 100 | J6: =SUM('3-(2). 현금흐름(운용중인 펀드)'!G5:G9) -> 100 | K6: =SUM('3-(2). 현금흐름(운용중인 펀드)'!H5:H9) -> 0 | L6: 회수완료 | M6: =SUM('3-(2). 현금흐름(운용중인 펀드)'!I5:I9) -> 100 | N6: ='3-(2). 현금흐름(운용중인 펀드)'!K9 -> 1 | O6: ='3-(2). 현금흐름(운용중인 펀드)'!L9 -> #NUM! | P6: 코스닥 | T6: 신주
B7: Fund1 | C7: Comp 2 | E7: RCPS | H7: 부분회수 | I7: =SUM('3-(2). 현금흐름(운용중인 펀드)'!F10:F14) -> 100 | J7: =SUM('3-(2). 현금흐름(운용중인 펀드)'!G10:G14) -> 50 | K7: =SUM('3-(2). 현금흐름(운용중인 펀드)'!H10:H14) -> 50 | L7: 10,000주*2,000원=20,000,000원('25.12.31 코스닥 종가) | M7: =SUM('3-(2). 현금흐름(운용중인 펀드)'!I10:I14) -> 100 | N7: ='3-(2). 현금흐름(운용중인 펀드)'!K14 -> 1 | O7: ='3-(2). 현금흐름(운용중인 펀드)'!L14 -> 2.9802322e-09 | P7: N | T7: 구주
B8: Fund1 | C8: Comp 3 | E8: CB | H8: 미회수 | I8: =SUM('3-(2). 현금흐름(운용중인 펀드)'!F15:F19) -> 100 | J8: =SUM('3-(2). 현금흐름(운용중인 펀드)'!G15:G19) -> 0 | K8: =SUM('3-(2). 현금흐름(운용중인 펀드)'!H15:H19) -> 100 | L8: 감사보고서('25.12.31) | M8: =SUM('3-(2). 현금흐름(운용중인 펀드)'!J15:J19) -> 0 | N8: ='3-(2). 현금흐름(운용중인 펀드)'!K19 -> 1 | O8: ='3-(2). 현금흐름(운용중인 펀드)'!L19 -> 2.9802322e-09
B9: Fund2 | C9: Comp 4 | I9: =SUM('3-(2). 현금흐름(운용중인 펀드)'!F22:F26) -> 0 | J9: =SUM('3-(2). 현금흐름(운용중인 펀드)'!G22:G26) -> 0 | K9: =SUM('3-(2). 현금흐름(운용중인 펀드)'!H22:H26) -> 0 | L9: 투자원금 | M9: =SUM('3-(2). 현금흐름(운용중인 펀드)'!I22:I26) -> 0 | N9: ='3-(2). 현금흐름(운용중인 펀드)'!K26 -> #DIV/0! | O9: ='3-(2). 현금흐름(운용중인 펀드)'!L26 -> #NUM!
B10: Fund2 | C10: Comp 5 | I10: =SUM('3-(2). 현금흐름(운용중인 펀드)'!F27:F31) -> 0 | J10: =SUM('3-(2). 현금흐름(운용중인 펀드)'!G27:G31) -> 0 | K10: =SUM('3-(2). 현금흐름(운용중인 펀드)'!H27:H31) -> 0 | L10: 외부기관 공정가치평가('25.12.31, OOO평가사) | M10: =SUM('3-(2). 현금흐름(운용중인 펀드)'!I27:I31) -> 0 | N10: ='3-(2). 현금흐름(운용중인 펀드)'!K31 -> #DIV/0! | O10: ='3-(2). 현금흐름(운용중인 펀드)'!L31 -> #NUM!
B11: Fund2 | C11: Comp 6 | I11: =SUM('3-(2). 현금흐름(운용중인 펀드)'!F32:F36) -> 0 | J11: =SUM('3-(2). 현금흐름(운용중인 펀드)'!G32:G36) -> 0 | K11: =SUM('3-(2). 현금흐름(운용중인 펀드)'!H32:H36) -> 0 | L11: 감액 | M11: =SUM('3-(2). 현금흐름(운용중인 펀드)'!I32:I36) -> 0 | N11: ='3-(2). 현금흐름(운용중인 펀드)'!K36 -> #DIV/0! | O11: ='3-(2). 현금흐름(운용중인 펀드)'!L36 -> #NUM!
B12: Fund3 | C12: Comp 7 | I12: =SUM('3-(2). 현금흐름(운용중인 펀드)'!F39:F43) -> 0 | J12: =SUM('3-(2). 현금흐름(운용중인 펀드)'!G39:G43) -> 0 | K12: =SUM('3-(2). 현금흐름(운용중인 펀드)'!H39:H43) -> 0 | M12: =SUM('3-(2). 현금흐름(운용중인 펀드)'!I39:I43) -> 0 | N12: ='3-(2). 현금흐름(운용중인 펀드)'!K43 -> #DIV/0! | O12: ='3-(2). 현금흐름(운용중인 펀드)'!L43 -> #NUM!
B13: Fund3 | C13: Comp 8 | I13: =SUM('3-(2). 현금흐름(운용중인 펀드)'!F44:F48) -> 0 | J13: =SUM('3-(2). 현금흐름(운용중인 펀드)'!G44:G48) -> 0 | K13: =SUM('3-(2). 현금흐름(운용중인 펀드)'!H44:H48) -> 0 | M13: =SUM('3-(2). 현금흐름(운용중인 펀드)'!I44:I48) -> 0 | N13: ='3-(2). 현금흐름(운용중인 펀드)'!K48 -> #DIV/0! | O13: ='3-(2). 현금흐름(운용중인 펀드)'!L48 -> #NUM!
B14: Fund3 | C14: Comp 9 | I14: =SUM('3-(2). 현금흐름(운용중인 펀드)'!F49:F53) -> 0 | J14: =SUM('3-(2). 현금흐름(운용중인 펀드)'!G49:G53) -> 0 | K14: =SUM('3-(2). 현금흐름(운용중인 펀드)'!H49:H53) -> 0 | M14: =SUM('3-(2). 현금흐름(운용중인 펀드)'!I49:I53) -> 0 | N14: ='3-(2). 현금흐름(운용중인 펀드)'!K53 -> #DIV/0! | O14: ='3-(2). 현금흐름(운용중인 펀드)'!L53 -> #NUM!
B15: 합계(평균) | I15: =+SUM(I6:I14) -> 300 | J15: =+SUM(J6:J14) -> 150 | K15: =+SUM(K6:K14) -> 150 | M15: =+SUM(M6:M14) -> 200 | N15: =+SUMPRODUCT(I6:I14,N6:N14)/I15 -> #DIV/0! | O15: =+SUMPRODUCT(I6:I14,O6:O14)/I15 -> #NUM!

Sheet 3-(2). 현금흐름(운용중인 펀드)
B2: 1. 운용중인 펀드 현금흐름
M3: (단위 : 백만원,%)
B4: 펀드명 | C4: 회사명 | D4: 투자형태 | E4: 일자 | F4: 투자자산 투자금액(A) | G4: 투자자산 회수금액(B) | H4: 투자자산 미회수가치(C) | I4: 총 회수금액(B+C) | J4: 현금흐름(B+C-A) | K4: Multiple((B+C)/A) | L4: Gross IRR | M4: Co-GP 여부(Y/N)
B5: Fund1 | C5: Comp 1 (회수완료) | D5: 보통주 | E5: 36526 | F5: 100 | I5: =G5+H5 -> 0 | J5: =G5+H5-F5 -> -100
I6: =G6+H6 -> 0 | J6: =G6+H6-F6 -> 0
I7: =G7+H7 -> 0 | J7: =G7+H7-F7 -> 0
I8: =G8+H8 -> 0 | J8: =G8+H8-F8 -> 0
G9: 100 | I9: =G9+H9 -> 100 | J9: =G9+H9-F9 -> 100 | K9: =SUM(I5:I9)/SUM(F5:F9) -> 1 | L9: =XIRR(J5:J9,E5:E9) -> #NUM!
C10: Comp 2 (부분회수) | D10: RCPS | E10: 36526 | F10: 100 | I10: =G10+H10 -> 0 | J10: =G10+H10-F10 -> -100
I11: =G11+H11 -> 0 | J11: =G11+H11-F11 -> 0
I12: =G12+H12 -> 0 | J12: =G12+H12-F12 -> 0
I13: =G13+H13 -> 0 | J13: =G13+H13-F13 -> 0
E14: 46022 | G14: 50 | H14: 50 | I14: =G14+H14 -> 100 | J14: =G14+H14-F14 -> 100 | K14: =SUM(I10:I14)/SUM(F10:F14) -> 1 | L14: =XIRR(J10:J14,E10:E14) -> 2.9802322e-09
C15: Comp 3 (미회수) | D15: CB | E15: 36526 | F15: 100 | I15: =G15+H15 -> 0 | J15: =G15+H15-F15 -> -100
I16: =G16+H16 -> 0 | J16: =G16+H16-F16 -> 0
I17: =G17+H17 -> 0 | J17: =G17+H17-F17 -> 0
I18: =G18+H18 -> 0 | J18: =G18+H18-F18 -> 0
E19: 46022 | H19: 100 | I19: =G19+H19 -> 100 | J19: =G19+H19-F19 -> 100 | K19: =SUM(I15:I19)/SUM(F15:F19) -> 1 | L19: =XIRR(J15:J19,E15:E19) -> 2.9802322e-09
B20: 소계 | F20: =SUM(F5:F19) -> 300 | G20: =SUM(G5:G19) -> 150 | H20: =SUM(H5:H19) -> 150 | I20: =SUM(I5:I19) -> 300 | J20: =SUM(J5:J19) -> 0 | K20: =SUM(I20)/SUM(F20) -> 1 | L20: =XIRR(J5:J19,E5:E19) -> #NUM!
B22: Fund2 | C22: Comp 4 | I22: =G22+H22 -> 0 | J22: =G22+H22-F22 -> 0
I23: =G23+H23 -> 0 | J23: =G23+H23-F23 -> 0
I24: =G24+H24 -> 0 | J24: =G24+H24-F24 -> 0
I25: =G25+H25 -> 0 | J25: =G25+H25-F25 -> 0
E26: 46022 | I26: =G26+H26 -> 0 | J26: =G26+H26-F26 -> 0 | K26: =SUM(I22:I26)/SUM(F22:F26) -> #DIV/0! | L26: =XIRR(J22:J26,E22:E26) -> #NUM!
C27: Comp 5 | I27: =G27+H27 -> 0 | J27: =G27+H27-F27 -> 0
I28: =G28+H28 -> 0 | J28: =G28+H28-F28 -> 0
I29: =G29+H29 -> 0 | J29: =G29+H29-F29 -> 0
I30: =G30+H30 -> 0 | J30: =G30+H30-F30 -> 0
E31: 46022 | I31: =G31+H31 -> 0 | J31: =G31+H31-F31 -> 0 | K31: =SUM(I27:I31)/SUM(F27:F31) -> #DIV/0! | L31: =XIRR(J27:J31,E27:E31) -> #NUM!
C32: Comp 6 | I32: =G32+H32 -> 0 | J32: =G32+H32-F32 -> 0
I33: =G33+H33 -> 0 | J33: =G33+H33-F33 -> 0
I34: =G34+H34 -> 0 | J34: =G34+H34-F34 -> 0
I35: =G35+H35 -> 0 | J35: =G35+H35-F35 -> 0
E36: 46022 | I36: =G36+H36 -> 0 | J36: =G36+H36-F36 -> 0 | K36: =SUM(I32:I36)/SUM(F32:F36) -> #DIV/0! | L36: =XIRR(J32:J36,E32:E36) -> #NUM!
B37: 소계 | F37: =SUM(F22:F36) -> 0 | G37: =SUM(G22:G36) -> 0 | H37: =SUM(H22:H36) -> 0 | I37: =SUM(I22:I36) -> 0 | J37: =SUM(J22:J36) -> 0 | K37: =SUM(I37)/SUM(F37) -> #DIV/0! | L37: =XIRR(J22:J36,E22:E36) -> #NUM!
B39: Fund3 | C39: Comp 7 | I39: =G39+H39 -> 0 | J39: =G39+H39-F39 -> 0
I40: =G40+H40 -> 0 | J40: =G40+H40-F40 -> 0
I41: =G41+H41 -> 0 | J41: =G41+H41-F41 -> 0
I42: =G42+H42 -> 0 | J42: =G42+H42-F42 -> 0
E43: 46022 | I43: =G43+H43 -> 0 | J43: =G43+H43-F43 -> 0 | K43: =SUM(I39:I43)/SUM(F39:F43) -> #DIV/0! | L43: =XIRR(J39:J43,E39:E43) -> #NUM!
...

Sheet 4. 운용인력 성과
B2: ※ 증빙서류에 해당 거래 건 형광펜으로 마킹
B3: 1. 핵심운용인력 성과(청산완료 펀드) * 전체기간, 일반운용인력으로 참여한 펀드 제외
W4: (단위 : 백만원, %)
B5: 성명 | C5: 펀드명 | D5: 투자자산 | E5: 주요 사업분야 | F5: 투자형태 | G5: 투자일자 | H5: 최종 회수일자 | I5: 회수 | J5: 투자자산 투자금액(A) | K5: 투자자산 회수금액(B) | L5: 투자자산 미회수가치(C) | M5: 미회수 자산 가치 산정 근거 | N5: 총 회수금액(B+C) | O5: Multiple((B+C)/A) | P5: 수익률(Gross IRR) | Q5: 시장성 유무 | R5: 회수방법 | S5: (공동투자시) 동반 투자기관명 | T5: 역할 | U5: Co-GP 여부(Y/N) | V5: 신주/구주 | W5: 검증인
B6: AAA | C6: Fund1 | D6: Comp 1 | F6: 보통주 | I6: 회수완료 | J6: =SUM('4-(1). 현금흐름(운용인력 성과)'!F5:F9) -> 100 | K6: =SUM('4-(1). 현금흐름(운용인력 성과)'!G5:G9) -> 100 | L6: =SUM('4-(1). 현금흐름(운용인력 성과)'!H5:H9) -> 0 | M6: 회수완료 | N6: =K6+L6 -> 100 | O6: ='4-(1). 현금흐름(운용인력 성과)'!K9 -> 1 | P6: ='4-(1). 현금흐름(운용인력 성과)'!L9 -> #NUM! | Q6: 코스닥 | V6: 신주
C7: Fund1 | D7: Comp 2 | F7: RCPS | I7: 부분회수 | J7: =SUM('4-(1). 현금흐름(운용인력 성과)'!F10:F14) -> 100 | K7: =SUM('4-(1). 현금흐름(운용인력 성과)'!G10:G14) -> 50 | L7: =SUM('4-(1). 현금흐름(운용인력 성과)'!H10:H14) -> 50 | M7: 10,000주*2,000원=20,000,000원('25.12.31 코스닥 종가) | N7: =K7+L7 -> 100 | O7: ='4-(1). 현금흐름(운용인력 성과)'!K14 -> 1 | P7: ='4-(1). 현금흐름(운용인력 성과)'!L14 -> 2.9802322e-09 | Q7: N | V7: 구주
C8: Fund1 | D8: Comp 3 | F8: CB | I8: 미회수 | J8: =SUM('4-(1). 현금흐름(운용인력 성과)'!F15:F19) -> 100 | K8: =SUM('4-(1). 현금흐름(운용인력 성과)'!G15:G19) -> 0 | L8: =SUM('4-(1). 현금흐름(운용인력 성과)'!H15:H19) -> 100 | M8: 감사보고서('25.12.31) | N8: =K8+L8 -> 100 | O8: ='4-(1). 현금흐름(운용인력 성과)'!K19 -> 1 | P8: ='4-(1). 현금흐름(운용인력 성과)'!L19 -> 2.9802322e-09
C9: Fund2 | D9: Comp 4 | J9: =SUM('4-(1). 현금흐름(운용인력 성과)'!F22:F26) -> 0 | K9: =SUM('4-(1). 현금흐름(운용인력 성과)'!G22:G26) -> 0 | L9: =SUM('4-(1). 현금흐름(운용인력 성과)'!H22:H26) -> 0 | M9: 투자원금 | N9: =K9+L9 -> 0
C10: Fund2 | D10: Comp 5 | J10: =SUM('4-(1). 현금흐름(운용인력 성과)'!F27:F31) -> 0 | K10: =SUM('4-(1). 현금흐름(운용인력 성과)'!G27:G31) -> 0 | L10: =SUM('4-(1). 현금흐름(운용인력 성과)'!H27:H31) -> 0 | M10: 외부기관 공정가치평가('25.12.31, OOO평가사) | N10: =K10+L10 -> 0
C11: Fund3 | D11: Comp 6 | J11: =SUM('4-(1). 현금흐름(운용인력 성과)'!G32:G36) -> 0 | K11: =SUM('4-(1). 현금흐름(운용인력 성과)'!H32:H36) -> 0 | L11: =SUM('4-(1). 현금흐름(운용인력 성과)'!I32:I36) -> 0 | M11: 감액 | N11: =K11+L11 -> 0
E12: 소계(평균) | J12: =SUM(J6:J11) -> 300 | K12: =SUM(K6:K11) -> 150 | L12: =SUM(L6:L11) -> 150 | O12: =SUMPRODUCT(O6:O11,J6:J11)/SUM(J6:J11) -> 1 | P12: =SUMPRODUCT(P6:P11,J6:J11)/SUM(J6:J11) -> #NUM!
B13: BBB | N13: =K13+L13 -> 0
N14: =K14+L14 -> 0
N15: =K15+L15 -> 0
N16: =K16+L16 -> 0
N17: =K17+L17 -> 0
N18: =K18+L18 -> 0
E19: 소계(평균) | J19: =SUM(J13:J18) -> 0 | K19: =SUM(K13:K18) -> 0 | L19: =SUM(L13:L18) -> 0 | O19: =SUMPRODUCT(O13:O18,J13:J18)/SUM(J13:J18) -> #DIV/0! | P19: =SUMPRODUCT(P13:P18,J13:J18)/SUM(J13:J18) -> #DIV/0!
E20: 합계(평균) | J20: =+J12+J19 -> 300 | K20: =+K12+K19 -> 150 | L20: =+L12+L19 -> 150 | O20: =(O12*J12+O19*J19)/J20 -> #DIV/0! | P20: =(P12*J12+P19*J19)/J20 -> #NUM!
B22: 2. 핵심운용인력 성과(운용 펀드) * 전체기간, 일반운용인력으로 참여한 펀드 제외
W23: (단위 : 백만원, %)
B24: 성명 | C24: 펀드명 | D24: 투자자산 | E24: 주요 사업분야 | F24: 투자형태 | G24: 투자일자 | H24: 최종 회수일자 | I24: 회수 | J24: 투자자산 투자금액(A) | K24: 투자자산 회수금액(B) | L24: 투자자산 미회수가치(C) | M24: 미회수 자산 가치 산정 근거 | N24: 총 회수금액(B+C) | O24: Multiple((B+C)/A) | P24: 수익률(Gross IRR) | Q24: 시장성 유무 | R24: 회수방법 | S24: (공동투자시) 동반 투자기관명 | T24: 역할 | U24: Co-GP 여부(Y/N) | V24: 신주/구주 | W24: 검증인
B25: AAA | C25: Fund4 | D25: Comp 10 | F25: 보통주 | I25: 회수완료 | J25: =SUM('4-(1). 현금흐름(운용인력 성과)'!F61:F65) -> 100 | K25: =SUM('4-(1). 현금흐름(운용인력 성과)'!G61:G65) -> 100 | L25: =SUM('4-(1). 현금흐름(운용인력 성과)'!H61:H65) -> 0 | M25: 회수완료 | N25: =K25+L25 -> 100 | O25: ='4-(1). 현금흐름(운용인력 성과)'!K28 -> 0 | P25: ='4-(1). 현금흐름(운용인력 성과)'!L65 -> #NUM! | Q25: 코스닥 | V25: 신주
C26: Fund4 | D26: Comp 11 | F26: RCPS | I26: 부분회수 | J26: =SUM('4-(1). 현금흐름(운용인력 성과)'!F66:F70) -> 100 | K26: =SUM('4-(1). 현금흐름(운용인력 성과)'!G66:G70) -> 50 | L26: =SUM('4-(1). 현금흐름(운용인력 성과)'!H66:H70) -> 50 | M26: 10,000주*2,000원=20,000,000원('25.12.31 코스닥 종가) | N26: =K26+L26 -> 100 | O26: ='4-(1). 현금흐름(운용인력 성과)'!K33 -> 0 | P26: ='4-(1). 현금흐름(운용인력 성과)'!L70 -> 2.9802322e-09 | Q26: N | V26: 구주
C27: Fund4 | D27: Comp 12 | F27: CB | I27: 미회수 | J27: =SUM('4-(1). 현금흐름(운용인력 성과)'!F71:F75) -> 100 | K27: =SUM('4-(1). 현금흐름(운용인력 성과)'!G71:G75) -> 0 | L27: =SUM('4-(1). 현금흐름(운용인력 성과)'!H71:H75) -> 100 | M27: 감사보고서('25.12.31) | N27: =K27+L27 -> 100 | O27: ='4-(1). 현금흐름(운용인력 성과)'!K38 -> 0 | P27: ='4-(1). 현금흐름(운용인력 성과)'!L75 -> 2.9802322e-09
J28: =SUM('4-(1). 현금흐름(운용인력 성과)'!F41:F45) -> 0 | K28: =SUM('4-(1). 현금흐름(운용인력 성과)'!G41:G45) -> 0 | L28: =SUM('4-(1). 현금흐름(운용인력 성과)'!H41:H45) -> 0 | M28: 투자원금 | N28: =K28+L28 -> 0
J29: =SUM('4-(1). 현금흐름(운용인력 성과)'!F46:F50) -> 0 | K29: =SUM('4-(1). 현금흐름(운용인력 성과)'!G46:G50) -> 0 | L29: =SUM('4-(1). 현금흐름(운용인력 성과)'!H46:H50) -> 0 | M29: 외부기관 공정가치평가('25.12.31, OOO평가사) | N29: =K29+L29 -> 0
J30: =SUM('4-(1). 현금흐름(운용인력 성과)'!G51:G55) -> 0 | K30: =SUM('4-(1). 현금흐름(운용인력 성과)'!H51:H55) -> 0 | L30: =SUM('4-(1). 현금흐름(운용인력 성과)'!I51:I55) -> 0 | M30: 감액 | N30: =K30+L30 -> 0
E31: 소계(평균) | O31: =SUMPRODUCT(O25:O30,J25:J30)/SUM(J25:J30) -> 0 | P31: =SUMPRODUCT(P25:P30,J25:J30)/SUM(J25:J30) -> #NUM!
B32: BBB | N32: =K32+L32 -> 0
N33: =K33+L33 -> 0
N34: =K34+L34 -> 0
N35: =K35+L35 -> 0
N36: =K36+L36 -> 0
N37: =K37+L37 -> 0
E38: 소계(평균) | J38: =SUM(J32:J37) -> 0 | K38: =SUM(K32:K37) -> 0 | L38: =SUM(L32:L37) -> 0 | O38: =SUMPRODUCT(O32:O37,J32:J37)/SUM(J32:J37) -> #DIV/0! | P38: =SUMPRODUCT(P32:P37,J32:J37)/SUM(J32:J37) -> #DIV/0!
E39: 합계(평균) | J39: =+J31+J38 -> 0 | K39: =+K31+K38 -> 0 | L39: =+L31+L38 -> 0 | N39: =+N31+N38 -> 0 | O39: =(O31*J31+O38*J38)/J39 -> #DIV/0! | P39: =(P31*J31+P38*J38)/J39 -> #NUM!

Sheet 4-(1). 현금흐름(운용인력 성과)
B1: ※ 증빙서류에 해당 거래 건 형광펜으로 마킹
B2: 1. 청산완료 펀드 현금흐름
M3: (단위 : 백만원,%)
B4: 펀드명 | C4: 회사명 | D4: 투자형태 | E4: 일자 | F4: 투자자산 투자금액(A) | G4: 투자자산 회수금액(B) | H4: 투자자산 미회수가치(C) | I4: 총 회수금액(B+C) | J4: 현금흐름(B+C-A) | K4: Multiple((B+C)/A) | L4: Gross IRR | M4: Co-GP 여부(Y/N)
B5: Fund1 | C5: Comp 1 (회수완료) | D5: 보통주 | E5: 36526 | F5: 100 | I5: =G5+H5 -> 0 | J5: =G5+H5-F5 -> -100
I6: =G6+H6 -> 0 | J6: =G6+H6-F6 -> 0
I7: =G7+H7 -> 0 | J7: =G7+H7-F7 -> 0
I8: =G8+H8 -> 0 | J8: =G8+H8-F8 -> 0
G9: 100 | I9: =G9+H9 -> 100 | J9: =G9+H9-F9 -> 100 | K9: =SUM(I5:I9)/SUM(F5:F9) -> 1 | L9: =XIRR(J5:J9,E5:E9) -> #NUM!
C10: Comp 2 (부분회수) | D10: RCPS | E10: 36526 | F10: 100 | I10: =G10+H10 -> 0 | J10: =G10+H10-F10 -> -100
I11: =G11+H11 -> 0 | J11: =G11+H11-F11 -> 0
I12: =G12+H12 -> 0 | J12: =G12+H12-F12 -> 0
I13: =G13+H13 -> 0 | J13: =G13+H13-F13 -> 0
E14: 46022 | G14: 50 | H14: 50 | I14: =G14+H14 -> 100 | J14: =G14+H14-F14 -> 100 | K14: =SUM(I10:I14)/SUM(F10:F14) -> 1 | L14: =XIRR(J10:J14,E10:E14) -> 2.9802322e-09
C15: Comp 3 (미회수) | D15: CB | E15: 36526 | F15: 100 | I15: =G15+H15 -> 0 | J15: =G15+H15-F15 -> -100
I16: =G16+H16 -> 0 | J16: =G16+H16-F16 -> 0
I17: =G17+H17 -> 0 | J17: =G17+H17-F17 -> 0
I18: =G18+H18 -> 0 | J18: =G18+H18-F18 -> 0
E19: 46022 | H19: 100 | I19: =G19+H19 -> 100 | J19: =G19+H19-F19 -> 100 | K19: =SUM(I15:I19)/SUM(F15:F19) -> 1 | L19: =XIRR(J15:J19,E15:E19) -> 2.9802322e-09
B20: 소계 | F20: =SUM(F5:F19) -> 300 | G20: =SUM(G5:G19) -> 150 | H20: =SUM(H5:H19) -> 150 | I20: =SUM(I5:I19) -> 300 | J20: =SUM(J5:J19) -> 0 | K20: =SUM(I20)/SUM(F20) -> 1 | L20: =XIRR(J5:J19,E5:E19) -> #NUM!
B22: Fund2 | C22: Comp 4 | I22: =G22+H22 -> 0 | J22: =G22+H22-F22 -> 0
I23: =G23+H23 -> 0 | J23: =G23+H23-F23 -> 0
I24: =G24+H24 -> 0 | J24: =G24+H24-F24 -> 0
I25: =G25+H25 -> 0 | J25: =G25+H25-F25 -> 0
E26: 46022 | I26: =G26+H26 -> 0 | J26: =G26+H26-F26 -> 0 | K26: =SUM(I22:I26)/SUM(F22:F26) -> #DIV/0! | L26: =XIRR(J22:J26,E22:E26) -> #NUM!
C27: Comp 5 | I27: =G27+H27 -> 0 | J27: =G27+H27-F27 -> 0
I28: =G28+H28 -> 0 | J28: =G28+H28-F28 -> 0
I29: =G29+H29 -> 0 | J29: =G29+H29-F29 -> 0
I30: =G30+H30 -> 0 | J30: =G30+H30-F30 -> 0
E31: 46022 | I31: =G31+H31 -> 0 | J31: =G31+H31-F31 -> 0 | K31: =SUM(I27:I31)/SUM(F27:F31) -> #DIV/0! | L31: =XIRR(J27:J31,E27:E31) -> #NUM!
C32: Comp 6 | I32: =G32+H32 -> 0 | J32: =G32+H32-F32 -> 0
I33: =G33+H33 -> 0 | J33: =G33+H33-F33 -> 0
I34: =G34+H34 -> 0 | J34: =G34+H34-F34 -> 0
I35: =G35+H35 -> 0 | J35: =G35+H35-F35 -> 0
E36: 46022 | I36: =G36+H36 -> 0 | J36: =G36+H36-F36 -> 0 | K36: =SUM(I32:I36)/SUM(F32:F36) -> #DIV/0! | L36: =XIRR(J32:J36,E32:E36) -> #NUM!
B37: 소계 | F37: =SUM(F22:F36) -> 0 | G37: =SUM(G22:G36) -> 0 | H37: =SUM(H22:H36) -> 0 | I37: =SUM(I22:I36) -> 0 | J37: =SUM(J22:J36) -> 0 | K37: =SUM(I37)/SUM(F37) -> #DIV/0! | L37: =XIRR(J22:J36,E22:E36) -> #NUM!
B39: Fund3 | C39: Comp 7 | I39: =G39+H39 -> 0 | J39: =G39+H39-F39 -> 0
I40: =G40+H40 -> 0 | J40: =G40+H40-F40 -> 0
I41: =G41+H41 -> 0 | J41: =G41+H41-F41 -> 0
I42: =G42+H42 -> 0 | J42: =G42+H42-F42 -> 0
...

Sheet 5. 운용 및 관리인력 상세
B2: 1. 핵심운용인력 세부현황
B3: 구분 | C3: 직위 | D3: 성명 | E3: 출생년도 | F3: 상세학력 | G3: 대체투자경력 | H3: 근속년수 | I3: 역할 | J3: 처벌경력 | K3: 주요 투자분야 | L3: 주요 투자명 | M3: 연락처 | N3: 이메일 | O3: 입사일
B4: 핵심운용인력 | D4: =D11 -> OOO | G4: =M11 -> 15.164384 | H4: =K11 -> 15.008219
D5: =D14 -> XXX | G5: =M14 -> 15.534247 | H5: =K14 -> 15.008219
C7: 합계(평균) | G7: =+AVERAGE(G4:G6) -> 15.349315 | H7: =+AVERAGE(H4:H6) -> 15.008219
B9: 2. 개인별 경력
B10: 구분 | C10: 직위 | D10: 성명 | E10: 직장명 | F10: 부서명 | G10: 직위 | H10: 수행업무 | I10: 경력시작일 | J10: 경력종료일 | K10: 경력년수 | L10: 대체투자경력 여부 | M10: 대체투자경력 년수
B11: 핵심운용인력 | D11: OOO | E11: 제안운용사 | I11: 40544 | J11: 46022 | K11: =(J11-I11)/365 -> 15.008219 | L11: A | M11: =SUMIF(L11:L13,"A",K11:K13)+(SUMIF(L11:L13,"B",K11:K13)*0.5) -> 15.164384
I12: 40118 | J12: 40232 | K12: =(J12-I12)/365 -> 0.31232877 | L12: B
I13: 39847 | J13: 40117 | K13: =(J13-I13)/365 -> 0.73972603 | L13: N
D14: XXX | E14: 제안운용사 | I14: 40544 | J14: 46022 | K14: =(J14-I14)/365 -> 15.008219 | L14: A | M14: =SUMIF(L14:L16,"A",K14:K16)+(SUMIF(L14:L16,"B",K14:K16)*0.5) -> 15.534247
I15: 40118 | J15: 40232 | K15: =(J15-I15)/365 -> 0.31232877 | L15: B
I16: 39847 | J16: 40117 | K16: =(J16-I16)/365 -> 0.73972603 | L16: B
B17: 일반운용인력 | D17: OOO | I17: 40544 | J17: 46022 | K17: =(J17-I17)/365 -> 15.008219 | L17: A | M17: =SUMIF(L17:L19,"A",K17:K19)+(SUMIF(L17:L19,"B",K17:K19)*0.5) -> 15.90411
I18: 40118 | J18: 40232 | K18: =(J18-I18)/365 -> 0.31232877 | L18: B
I19: 39847 | J19: 40117 | K19: =(J19-I19)/365 -> 0.73972603 | L19: A
B20: 관리인력 | D20: OOO | I20: 40544 | J20: 46022 | K20: =(J20-I20)/365 -> 15.008219 | L20: -
I21: 40118 | J21: 40232 | K21: =(J21-I21)/365 -> 0.31232877
I22: 39847 | J22: 40117 | K22: =(J22-I22)/365 -> 0.73972603
B23: *재직/경력 증빙서류로 경력 및 근속년수 증빙가능해야함
B24: *일반운용인력에는 제안펀드를 위해 구성된 운용담당 임직원 모두 기재
B26: 3. 인력 수
B27: 구분 | C27: 임직원 수
B28: 핵심운용인력
B29: 일반운용인력
B30: 관리인력¹
B31: 그외 기타인력²
B32: * 핵심/일반 운용인력은 제안펀드 기준이며, 관리인력 및 그외 기타 인력은 운용사 기준으로 작성
B33: 1) 운용인력 외 인력 중 오퍼레이션, 리스크, 준법 등 펀드관리를 위한 인력(인사, 회계 등 회사 고유업무 관리인력은 그외기타인력으로 기재하되 기타업무와 관리업무 겸직 시 둘다 기재)
B34: 2) 핵심/일반 운용인력 및 관리인력에 해당하지 않는 인력
B36: 4. 핵심 운용인력 유지율
B37: 구분 | C37: 펀드명 | D37: 설립일 | E37: 청산(예정)일 | F37: 설립시(최초 정관상) | H37: 청산시(또는 제안 기준일) | J37: 유지율 | K37: 변경1 | M37: 변경2 | O37: 변경3 | Q37: 변경4 | S37: 변경5
K38: yyyy-mm-dd | M38: yyyy-mm-dd | O38: yyyy-mm-dd | Q38: yyyy-mm-dd | S38: yyyy-mm-dd
F39: 핵심운용인력 | G39: 인원수 | H39: 핵심운용인력 | I39: 인원수¹ | K39: 변경인력 (제외 인력) | L39: 변경인력 (추가 인력) | M39: 변경인력 (제외 인력) | N39: 변경인력 (추가 인력) | O39: 변경인력 (제외 인력) | P39: 변경인력 (추가 인력) | Q39: 변경인력 (제외 인력) | R39: 변경인력 (추가 인력) | S39: 변경인력 (제외 인력) | T39: 변경인력 (추가 인력)
B40: 청산펀드 | C40: Fund1 | F40: A,B,C | G40: 3 | H40: A,C,D | I40: 2 | J40: =I40/G40 -> 0.66666667 | K40: B | L40: D
B41: 운용중인펀드 | C41: Fund2 | F41: A,B,C | G41: 3 | H41: A,B,C | I41: 3 | J41: =I41/G41 -> 1
B42: 운용중인펀드 | C42: Fund3 | J42: =I42/G42 -> #DIV/0!
B43: 합계(평균) | J43: =AVERAGE(J40:J42) -> #DIV/0!
B44: * 1. 청산시(또는 제안 기준일) 인원수 : 설립시 인력 중 유지중인 인원수
B45: * 기준일 10년 이내 설립된 펀드 대상(2016.01.01~2025.12.31)
