Workbook

Sheet 공개 총괄
A1: 2021년 2월 상근임원 업무추진비 사용현황
A3: 1. 임원별 사용현황
A5: 구 분 | B5: 사용회수(건) | C5: 사용금액(원) | D5: 비 고
A6: 회 장(비상근) | B6: - | C6: 0
A7: 상근부회장 | B7: =세부사용현황!F18 -> 14 | C7: =세부사용현황!H18 -> 1557650
A8: 상임감사 | B8: =세부사용현황!F27 -> 8 | C8: =세부사용현황!H27 -> 723000
A9: 경영기획본부장 | B9: =세부사용현황!F30 -> 2 | C9: =세부사용현황!H30 -> 68700
A10: 협동조합본부장 | B10: =세부사용현황!F34 -> 3 | C10: =세부사용현황!H34 -> 365000
A11: 경제정책본부장 | B11: =세부사용현황!F42 -> 7 | C11: =세부사용현황!H42 -> 301920
A12: 혁신성장본부장 | B12: =세부사용현황!F52 -> 1 | C12: =세부사용현황!H52 -> 842300
A13: 스마트일자리본부장 | B13: =세부사용현황!F55 -> 2 | C13: =세부사용현황!H55 -> 220000
A14: 공제사업단장 | B14: =세부사용현황!F61 -> 5 | C14: =세부사용현황!H61 -> 419630
A15: 자산운용본부장 | B15: =세부사용현황!F69 -> 7 | C15: =세부사용현황!H69 -> 578000
A16: 총 계 | B16: =SUM(B7:B15) -> 49 | C16: =SUM(C6:C15) -> 5076200
A19: 2. 집행목적별 사용현황
A21: 집행구분 | B21: 사용회수(건) | C21: 사용금액(원) | D21: 비 고
A22: 내부직원 간담 | B22: =COUNTIF(세부사용현황!C4:C69,"내부직원 간담") -> 27 | C22: =SUMIF(세부사용현황!$C$4:$C$68,A22,세부사용현황!$H$4:$H$68) -> 2331520
A23: 유관기관 협의 | B23: =COUNTIF(세부사용현황!C4:C69,"유관기관 협의") -> 28 | C23: =SUMIF(세부사용현황!$C$4:$C$68,A23,세부사용현황!$H$4:$H$68) -> 2605050
A24: 협동조합 관련 | B24: =COUNTIF(세부사용현황!C18:C70,"협동조합 관련") -> 0 | C24: =SUMIF(세부사용현황!$C$4:$C$68,A24,세부사용현황!$H$4:$H$68) -> 0
A25: 기타사업 추진 | B25: =COUNTIF(세부사용현황!C18:C71,"기타사업 추진") -> 2 | C25: =SUMIF(세부사용현황!$C$4:$C$68,A25,세부사용현황!$H$4:$H$68) -> 139630
A26: 총 계 | B26: =SUM(B22:B25) -> 57 | C26: =SUM(C22:C25) -> 5076200
A28: * 조직개편 적용(2019.4월~)

Sheet 세부사용현황
A1: ='공개 총괄'!A1 -> 2021년 2월 상근임원 업무추진비 사용현황
A3: 사용자 | B3: 사용일자 | C3: 사용구분 | D3: 집행목적 | E3: 사용처 | F3: 집행대상자(건) | G3: 집행구분 | H3: 집행금액(원)
A4: 상근부회장 | B4: 44228 | C4: 유관기관 협의 | D4: 유관기관 업무협의 | E4: 운산 | F4: 유관기관 | G4: 카드 | H4: 136000
A5: 상근부회장 | B5: 44229 | C5: 유관기관 협의 | D5: 유관기관 업무협의 | E5: 스시나고미 | F5: 유관기관 | G5: 카드 | H5: 120000
A6: 상근부회장 | B6: 44229 | C6: 유관기관 협의 | D6: 유관기관 업무협의 | E6: 재패니즈 다이닝 소울 | F6: 유관기관 | G6: 카드 | H6: 172000
A7: 상근부회장 | B7: 44230 | C7: 유관기관 협의 | D7: 유관기관 업무협의 | E7: 이도식당 | F7: 유관기관 | G7: 카드 | H7: 99000
A8: 상근부회장 | B8: 44231 | C8: 유관기관 협의 | D8: 유관기관 업무협의 | E8: 대방골 | F8: 유관기관 | G8: 카드 | H8: 143700
A9: 상근부회장 | B9: 44235 | C9: 유관기관 협의 | D9: 유관기관 업무협의 | E9: 혼복집 | F9: 유관기관 | G9: 카드 | H9: 60000
A10: 상근부회장 | B10: 44245 | C10: 내부직원 간담 | D10: 소통활성화를 위한 직원 티타임 | E10: (주) 이디야 한국수출입은행점 | F10: 납품단가조정센터 | G10: 카드 | H10: 13800
A11: 상근부회장 | B11: 44245 | C11: 내부직원 간담 | D11: 소통활성화를 위한 직원 오찬 | E11: 여의도장어본점 | F11: 납품단가조정센터 | G11: 카드 | H11: 122000
A12: 상근부회장 | B12: 44245 | C12: 유관기관 협의 | D12: 유관기관 업무협의 | E12: 우참판/우기미주식회사 | F12: 유관기관 | G12: 카드 | H12: 217000
A13: 상근부회장 | B13: 44249 | C13: 유관기관 협의 | D13: 유관기관 업무협의 | E13: 막내회센타 | F13: 유관기관 | G13: 카드 | H13: 155000
A14: 상근부회장 | B14: 44250 | C14: 유관기관 협의 | D14: 언론사 간담 | E14: 주식회사 해초연 | F14: 언론사 | G14: 카드 | H14: 96000
A15: 상근부회장 | B15: 44252 | C15: 유관기관 협의 | D15: 유관기관 업무협의 | E15: 웬떡예술의전당점 | F15: 유관기관 | G15: 카드 | H15: 16650
... A17: 상근부회장 | B17: 44253 | C17: 유관기관 협의 | D17: 유관기관 업무협의 | E17: 더코너키친 | F17: 유관기관 | G17: 카드 | H17: 146500
A18: 소 계 | F18: =COUNTA(F4:F17) -> 14 | H18: =SUM(H4:H17) -> 1557650
A19: 상임감사 | B19: 44229 | C19: 유관기관 협의 | D19: 대외 업무협의 | E19: 주식회사 호텔올라 | F19: 유관기관 | G19: 카드 | H19: 124000
A20: 상임감사 | B20: 44232 | C20: 유관기관 협의 | D20: 대외 업무협의(조달청 출장) | E20: 주식회사 에스알 | F20: 유관기관 | G20: 카드 | H20: 19800
A21: 상임감사 | B21: 44232 | C21: 유관기관 협의 | D21: 대외 업무협의(조달청 출장) | E21: 한국철도공사 | F21: 유관기관 | G21: 카드 | H21: 33200
A22: 상임감사 | B22: 44236 | C22: 내부직원 간담 | D22: 내부직원 격려 | E22: 여의도장어본점 | F22: 중앙회 직원 | G22: 카드 | H22: 116000
A23: 상임감사 | B23: 44242 | C23: 유관기관 협의 | D23: 대외 업무협의 | E23: 경복궁대전점(주)엔타스 | F23: 유관기관 | G23: 카드 | H23: 87000
A24: 상임감사 | B24: 44246 | C24: 유관기관 협의 | D24: 대외 업무협의 | E24: 운산 | F24: 유관기관 | G24: 카드 | H24: 87000
A25: 상임감사 | B25: 44249 | C25: 내부직원 간담 | D25: 내부직원 격려 | E25: 천지명(CJM:天第名) | F25: 중앙회 직원 | G25: 카드 | H25: 140000
A26: 상임감사 | B26: 44250 | C26: 내부직원 간담 | D26: 내부직원 격려 | E26: 운산 | F26: 중앙회 직원 | G26: 카드 | H26: 116000
A27: 소 계 | F27: =COUNTA(F19:F26) -> 8 | H27: =SUM(H19:H26) -> 723000
A28: 경영기획본부장 | B28: 44231 | C28: 유관기관 협의 | D28: 유관기관 업무협의 | E28: 오가닉 | F28: 유관기관 담당자 | G28: 카드 | H28: 12700
A29: 경영기획본부장 | B29: 44237 | C29: 내부직원 간담 | D29: 기획조정실 직원 격려 | E29: 만나 | F29: 기획조정실 직원 | G29: 카드 | H29: 56000
A30: 소 계 | F30: =COUNTA(F28:F29) -> 2 | H30: =SUM(H28:H29) -> 68700
A31: 협동조합본부장 | B31: 44246 | C31: 유관기관 협의 | D31: 협동조합 관련 업무협의 | E31: 연타발 | F31: 유관기관 담당자 | G31: 카드 | H31: 233000
A32: 협동조합본부장 | B32: 44237 | C32: 유관기관 협의 | D32: 협동조합 관련 업무협의 | E32: 수석식당 | F32: 유관기관 담당자 | G32: 카드 | H32: 100000
A33: 협동조합본부장 | B33: 44252 | C33: 내부직원 간담 | D33: 공공구매지원부 직원 오찬 | E33: 소문난부자돼지국밥&족발 | F33: 중앙회 직원 | G33: 카드 | H33: 32000
A34: 소 계 | F34: =COUNTA(F31:F33) -> 3 | H34: =SUM(H31:H33) -> 365000
A35: 경제정책본부장 | B35: 2021-02-01 | C35: 내부직원 간담 | D35: 무역촉진부 직원 격려 | E35: 한방대가삼계탕 | F35: 중앙회 직원 | G35: 카드 | H35: 35500
A36: 경제정책본부장 | B36: 2021-02-15 | C36: 내부직원 간담 | D36: 무역촉진부 직원 격려 | E36: 홈메이드샌드위치 | F36: 중앙회 직원 | G36: 카드 | H36: 13500
A37: 경제정책본부장 | B37: 2021-02-15 | C37: 내부직원 간담 | D37: 정책총괄실 직원 격려 | E37: 달맞이꽃게탕서여의도점 | F37: 중앙회 직원 | G37: 카드 | H37: 30000
A38: 경제정책본부장 | B38: 2021-02-16 | C38: 유관기관 협의 | D38: 파이터치연구원장과 업무협의 | E38: 홈메이드샌드위치 | F38: 유관기관 담당자 | G38: 카드 | H38: 5500
A39: 경제정책본부장 | B39: 2021-02-17 | C39: 내부직원 간담 | D39: 정책총괄실 직원 격려 | E39: 김가네김밥 | F39: 중앙회 직원 | G39: 카드 | H39: 15000
A40: 경제정책본부장 | B40: 2021-02-26 | C40: 내부직원 간담 | D40: 홍보실과 정책간담 관련 업무협의 | E40: 다화 | F40: 중앙회 직원 | G40: 카드 | H40: 63000
A41: 경제정책본부장 | B41: 2021-02-26 | C41: 내부직원 간담 | D41: 경제정책본부 소통 및 격려 | E41: 피자헛여의도중앙점 | F41: 중앙회 직원 | G41: 카드 | H41: 139420
A42: 소 계 | F42: =COUNTA(F35:F41) -> 7 | H42: =SUM(H35:H41) -> 301920
...
