Workbook

Sheet 공개 총괄
A1: 2020년 7월 상근임원 업무추진비 사용현황
A3: 1. 임원별 사용현황
A5: 구 분 | B5: 사용회수(건) | C5: 사용금액(원) | D5: 비 고
A6: 회 장(비상근) | B6: - | C6: 0
A7: 상근부회장 | B7: =세부사용현황!F7 -> 3 | C7: =세부사용현황!H7 -> 446000
A8: 상임감사 | B8: =세부사용현황!F12 -> 4 | C8: =세부사용현황!H12 -> 621000
A9: 경영기획본부장 | B9: =세부사용현황!F23 -> 10 | C9: =세부사용현황!H23 -> 550800
A10: 협동조합본부장 | B10: =세부사용현황!F34 -> 10 | C10: =세부사용현황!H34 -> 849600
A11: 경제정책본부장 | B11: =세부사용현황!F36 -> 0 | C11: =세부사용현황!H36 -> 0 | D11: 사용내역 없음
A12: 혁신성장본부장 | B12: =세부사용현황!F41 -> 4 | C12: =세부사용현황!H41 -> 232700
A13: 스마트일자리본부장 | B13: =세부사용현황!F47 -> 5 | C13: =세부사용현황!H47 -> 629200
A14: 공제사업단장 | B14: =세부사용현황!F59 -> 11 | C14: =세부사용현황!H59 -> 665360
A15: 자산운용본부장 | B15: =세부사용현황!F66 -> 6 | C15: =세부사용현황!H66 -> 414500
A16: 총 계 | B16: =SUM(B7:B15) -> 53 | C16: =SUM(C6:C15) -> 4409160
A19: 2. 집행목적별 사용현황
A21: 집행구분 | B21: 사용회수(건) | C21: 사용금액(원) | D21: 비 고
A22: 내부직원 간담 | B22: =COUNTIF(세부사용현황!C4:C65,"내부직원 간담") -> 34 | C22: =SUMIF(세부사용현황!$C$4:$C$65,A22,세부사용현황!$H$4:$H$65) -> 2660660
A23: 유관기관 협의 | B23: =COUNTIF(세부사용현황!C5:C66,"유관기관 협의") -> 17 | C23: =SUMIF(세부사용현황!$C$4:$C$65,A23,세부사용현황!$H$4:$H$65) -> 1688500
A24: 협동조합 관련 | B24: =COUNTIF(세부사용현황!C6:C67,"협동조합 관련") -> 0 | C24: =SUMIF(세부사용현황!$C$4:$C$65,A24,세부사용현황!$H$4:$H$65) -> 0
A25: 기타사업 추진 | B25: =COUNTIF(세부사용현황!C7:C68,"기타사업 추진") -> 1 | C25: =SUMIF(세부사용현황!$C$4:$C$65,A25,세부사용현황!$H$4:$H$65) -> 60000
A26: 총 계 | B26: =SUM(B22:B25) -> 52 | C26: =SUM(C22:C25) -> 4409160
A28: * 조직개편 적용(2019.4월~)

Sheet 세부사용현황
A1: 2020년 7월 상근임원 업무추진비 사용현황
A3: 사용자 | B3: 사용일자 | C3: 사용구분 | D3: 집행목적 | E3: 사용처 | F3: 집행대상자(건) | G3: 집행구분 | H3: 집행금액(원)
A4: 상근부회장 | B4: 44027 | C4: 유관기관 협의 | D4: 언론사 간담 | E4: 라칸티나 | F4: 언론사 6명 | G4: 카드 | H4: 180000
A5: 상근부회장 | B5: 44032 | C5: 내부직원 간담 | D5: 소통활성화를 위한 직원 오찬 | E5: 덕곰탕 | F5: 편집국 직원 등 10명 | G5: 카드 | H5: 207000
A6: 상근부회장 | B6: 44043 | C6: 내부직원 간담 | D6: 소통활성화를 위한 직원 오찬 | E6: 하롱베이의하루/디자인푸드 주식회사 | F6: 소상공인정책부 직원 등 4명 | G6: 카드 | H6: 59000
A7: 소 계 | F7: =COUNTA(F4:F6) -> 3 | H7: =SUM(H4:H6) -> 446000
A8: 상임감사 | B8: 44027 | C8: 유관기관 협의 | D8: 업무협의 | E8: 여의도장어본점 | F8: 유관기관 | G8: 카드 | H8: 203000
A9: 상임감사 | B9: 44034 | C9: 유관기관 협의 | D9: 업무협의 | E9: 운산 | F9: 유관기관 | G9: 카드 | H9: 203000
A10: 상임감사 | B10: 44039 | C10: 유관기관 협의 | D10: 업무협의 | E10: 운산 | F10: 유관기관 | G10: 카드 | H10: 116000
A11: 상임감사 | B11: 44043 | C11: 유관기관 협의 | D11: 업무협의 | E11: (주)밥보 | F11: 유관기관 | G11: 카드 | H11: 99000
A12: 소 계 | F12: =COUNTA(F8:F11) -> 4 | H12: =SUM(H8:H11) -> 621000
A13: 경영기획본부장 | B13: 44018 | C13: 내부직원 간담 | D13: 경영기획본부 직원 격려 | E13: 3일국밥 국회의사당점 | F13: 기획조정실 직원 등 6명 | G13: 카드 | H13: 53000
A14: 경영기획본부장 | B14: 44025 | C14: 내부직원 간담 | D14: 업무협의 | E14: 프라임한우/동해도한한(주) | F14: 중앙회 직원 등 4명 | G14: 카드 | H14: 54000
A15: 경영기획본부장 | B15: 44027 | C15: 내부직원 간담 | D15: 경영기획본부 직원 격려 | E15: (주)보나비 | F15: 사회공헌부 직원 등 4명 | G15: 카드 | H15: 15400
A16: 경영기획본부장 | B16: 44027 | C16: 내부직원 간담 | D16: 경영기획본부 직원 격려 | E16: 봉명성 | F16: 사회공헌부 직원 등 4명 | G16: 카드 | H16: 44000
A17: 경영기획본부장 | B17: 44028 | C17: 내부직원 간담 | D17: 업무협의 | E17: (주)보나비 | F17: 중앙회 직원 등 2명 | G17: 카드 | H17: 9400
A18: 경영기획본부장 | B18: 44029 | C18: 내부직원 간담 | D18: 업무협의 | E18: 삿뽀로등촌점(주)엔타스 | F18: 중앙회 직원 등 4명 | G18: 카드 | H18: 69000
A19: 경영기획본부장 | B19: 44033 | C19: 내부직원 간담 | D19: 경영기획본부 직원 격려 | E19: 황금복국 | F19: 총무회계부 직원 등 8명 | G19: 카드 | H19: 144000
A20: 경영기획본부장 | B20: 44036 | C20: 내부직원 간담 | D20: 업무협의 | E20: 소담골 | F20: 중앙회 직원 등 6명 | G20: 카드 | H20: 85000
A21: 경영기획본부장 | B21: 44036 | C21: 내부직원 간담 | D21: 업무협의 | E21: (주)보나비 | F21: 중앙회 직원 등 6명 | G21: 카드 | H21: 20000
A22: 경영기획본부장 | B22: 44039 | C22: 내부직원 간담 | D22: 경영기획본부 직원 격려 | E22: 대독장 여의도점/파파디에스 주식회사 여의 | F22: 인사부 직원 등 5명 | G22: 카드 | H22: 57000
A23: 소 계 | F23: =COUNTA(F13:F22) -> 10 | H23: =SUM(H13:H22) -> 550800
A24: 협동조합본부장 | B24: 44005 | C24: 내부직원 간담 | D24: 조합정책실 업무협의 | E24: 교동전선생 | F24: 조합정책실 임직원 등 | G24: 카드 | H24: 53000
A25: 협동조합본부장 | B25: 44007 | C25: 내부직원 간담 | D25: 조합지원실 업무협의 | E25: 삼원정 | F25: 조합지원실 임직원 등 | G25: 카드 | H25: 42000
A26: 협동조합본부장 | B26: 44008 | C26: 유관기관 협의 | D26: 부정당제재 완화 관련 업무협의 | E26: ㈜이도맨션 | F26: 유관기관 관계자 등 | G26: 카드 | H26: 88000
A27: 협동조합본부장 | B27: 44019 | C27: 내부직원 간담 | D27: 조합지원실 업무협의 | E27: 본터식당 | F27: 조합지원실 임직원 등 | G27: 카드 | H27: 37000
A28: 협동조합본부장 | B28: 44021 | C28: 유관기관 협의 | D28: 협동조합 관련 업무협의 | E28: ㈜동원브이아이피참치 | F28: 유관기관 관계자 등 | G28: 카드 | H28: 209000
A29: 협동조합본부장 | B29: 44032 | C29: 내부직원 간담 | D29: 협업사업부 업무협의 | E29: 보나베띠 | F29: 협업사업부 임직원 등 | G29: 카드 | H29: 67600
A30: 협동조합본부장 | B30: 44036 | C30: 내부직원 간담 | D30: 경남지사간담회 직원 격려 | E30: 푸주옥 | F30: 협동조합본부 임직원 등 | G30: 카드 | H30: 201000
A31: 협동조합본부장 | B31: 44040 | C31: 유관기관 협의 | D31: 공동구매보증 관련 업무협의 | E31: 마삼계탕 | F31: 유관기관 관계자 등 | G31: 카드 | H31: 56000
A32: 협동조합본부장 | B32: 44042 | C32: 내부직원 간담 | D32: 판로지원부 업무협의 | E32: 진땡이 | F32: 판로지원부 임직원 등 | G32: 카드 | H32: 48000
A33: 협동조합본부장 | B33: 44043 | C33: 유관기관 협의 | D33: 협동조합 관련 업무협의 | E33: 봉명성 | F33: 유관기관 관계자 등 | G33: 카드 | H33: 48000
A34: 소 계 | F34: =COUNTA(F24:F33) -> 10 | H34: =SUM(H24:H33) -> 849600
A35: 경제정책본부장
A36: 소 계 | F36: =COUNTA(F35:F35) -> 0 | H36: =SUM(H35:H35) -> 0
A37: 혁신성장본부장 | B37: 44013 | C37: 유관기관 협의 | D37: 업무 협의 | E37: 국회후생복지위원회 | F37: 국회 직원 | G37: 카드 | H37: 15000
A38: 혁신성장본부장 | B38: 44033 | C38: 내부직원 간담 | D38: 내부 직원 격려 | E38: 주식회사 샹리 | F38: 혁신성장본부 직원 | G38: 카드 | H38: 140000
A39: 혁신성장본부장 | B39: 44036 | C39: 유관기관 협의 | D39: 업무 협의 | E39: (주)닥터로빈 여의도점 | F39: 공정위 | G39: 카드 | H39: 17700
A40: 혁신성장본부장 | B40: 44040 | C40: 유관기관 협의 | D40: 업무 협의 | E40: 스시나고미 | F40: 국회 직원 | G40: 카드 | H40: 60000
A41: 소 계 | F41: =COUNTA(F37:F40) -> 4 | H41: =SUM(H37:H40) -> 232700
...
