Workbook

Sheet 공개 총괄
A1: 2018.12월 상근임원 업무추진비 사용현황
A3: 1. 임원별 사용현황
A5: 구 분 | B5: 사용회수(건) | C5: 사용금액(원) | D5: 비 고
A6: 회 장(비상근) | B6: - | C6: 0 | D6: * 사용 없음
A7: 상근부회장 | B7: =세부사용현황!F6 -> 2 | C7: =세부사용현황!H6 -> 228000
A8: 상임감사 | B8: =세부사용현황!F14 -> 7 | C8: =세부사용현황!H14 -> 1031250
A9: 전무(공제단장) | B9: =세부사용현황!F20 -> 5 | C9: =세부사용현황!H20 -> 533000
A10: 경영지원본부장 | B10: =세부사용현황!F27 -> 6 | C10: =세부사용현황!H27 -> 686800
A11: 경제정책본부장 | B11: =세부사용현황!F32 -> 4 | C11: =세부사용현황!H32 -> 487000
A12: 회원지원본부장 | B12: =세부사용현황!F34 -> 0 | C12: =세부사용현황!H34 -> 0
A13: 통산산업본부장 | B13: =세부사용현황!F40 -> 5 | C13: =세부사용현황!H40 -> 481900
A14: 노란우산공제본부장 | B14: =세부사용현황!F46 -> 5 | C14: =세부사용현황!H46 -> 287000
A15: 고용지원본부장 | B15: =세부사용현황!F50 -> 3 | C15: =세부사용현황!H50 -> 424000
A16: 공제사업본부장 | B16: =세부사용현황!F53 -> 2 | C16: =세부사용현황!H53 -> 152000
A17: 총 계 | B17: =SUM(B6:B16) -> 39 | C17: =SUM(C6:C16) -> 4310950
A20: 2. 집행목적별 사용현황
A22: 집행구분 | B22: 사용회수(건) | C22: 사용금액(원) | D22: 비 고
A23: 내부직원 간담 | B23: 31 | C23: 3361950
A24: 유관기관 협의 | B24: 7 | C24: 889000
A25: 협동조합 관련 | B25: 1 | C25: 60000
A26: 기타사업 추진 | B26: 0 | C26: 0
A27: 총 계 | B27: =SUM(B23:B26) -> 39 | C27: =SUM(C23:C26) -> 4310950
A29: * 조직개편 적용(2018.9월)

Sheet 세부사용현황
A1: 2018년 12월 상근임원 업무추진비 사용현황
A3: 사용자 | B3: 사용일자 | C3: 사용구분 | D3: 집행목적 | E3: 사용처 | F3: 집행대상자(건) | G3: 집행구분 | H3: 집행금액(원)
A4: 상근부회장 | B4: 43451 | C4: 내부직원간담 | D4: 중앙회 역대 임원 간담 | E4: 외백 | F4: 전 부회장 등 4명 | G4: 카드 | H4: 59000
A5: 상근부회장 | B5: 43455 | C5: 내부직원간담 | D5: 소통활성화를 위한 직원 오찬 | E5: 성민촌 | F5: 보증공제부 직원 7명 | G5: 카드 | H5: 169000
A6: 소 계 | F6: 2 | H6: =SUM(H4:H5) -> 228000
A7: 상임감사 | B7: 43446 | C7: 내부직원간담 | D7: 업무협의 | E7: 황금복국 | F7: 직원 2명 | G7: 카드 | H7: 55000
A8: 상임감사 | B8: 43448 | C8: 협동조합관련 | D8: 감사협의 | E8: 천지명 | F8: 조합 전무 등 3명 | G8: 카드 | H8: 60000
A9: 상임감사 | B9: 43452 | C9: 내부직원간담 | D9: 소통 위한 임원간담 | E9: 선영소 | F9: 내부임원 등 10명 | G9: 카드 | H9: 355000
A10: 상임감사 | B10: 43453 | C10: 유관기관 협의 | D10: 업무협의 | E10: 남도마루 | F10: 유관기관 5명 | G10: 카드 | H10: 147000
A11: 상임감사 | B11: 43455 | C11: 내부직원간담 | D11: 업무협의 | E11: (주)보나비 | F11: 직원 9명 | G11: 카드 | H11: 58250
A12: 상임감사 | B12: 43455 | C12: 유관기관 협의 | D12: 유관기관 간담회 | E12: 일품당샤브 | F12: 유관기관 12명 | G12: 카드 | H12: 331000
A13: 상임감사 | B13: 43461 | C13: 유관기관 협의 | D13: 업무협의 | E13: 광화문아띠 | F13: 유관기관 2명 | G13: 카드 | H13: 25000
A14: 소 계 | F14: 7 | H14: =SUM(H7:H13) -> 1031250
A15: 전무(공제단장) | B15: 2018-12-05 | C15: 유관기관 협의 | D15: 유관기관 업무회의 | E15: 세안홀딩스 | F15: 유관기관 관계자 등 6명 | G15: 카드 | H15: 157000
A16: 전무(공제단장) | B16: 2018-12-14 | C16: 유관기관 협의 | D16: 연구기관 업무협의 | E16: 운산 | F16: 연구기관 관계자 등 3명 | G16: 카드 | H16: 76000
A17: 전무(공제단장) | B17: 2018-12-20 | C17: 유관기관 협의 | D17: 치안관련 기관 직원 격려 | E17: 선영소 | F17: 치안관련 관계자 등 5명 | G17: 카드 | H17: 137000
A18: 전무(공제단장) | B18: 2018-12-24 | C18: 내부직원간담 | D18: 대체투자 상품개발 대체투자부 협의 | E18: 포 | F18: 대체투자부 직원 등 3명 | G18: 카드 | H18: 55000
A19: 전무(공제단장) | B19: 2018-12-28 | C19: 내부직원간담 | D19: 공제사업단 여직원 의견수렴 | E19: 포 | F19: 공제사업단 여직원 등 5명 | G19: 카드 | H19: 108000
A20: 소 계 | F20: 5 | H20: =SUM(H15:H19) -> 533000
A21: 경영지원본부장 | B21: 43439 | C21: 내부직원간담 | D21: 임원 업무 협의 | E21: 소쇄원국시 | F21: 중앙회 임원 10명 | G21: 카드 | H21: 320000
A22: 경영지원본부장 | B22: 43446 | C22: 내부직원간담 | D22: 경영지원본부 직원 격려 | E22: 동해도본점 | F22: 인사부 직원 4명 | G22: 카드 | H22: 76000
A23: 경영지원본부장 | B23: 43446 | C23: 내부직원간담 | D23: 경영지원본부 직원 격려 | E23: 인블러썸 | F23: 인사부 직원 4명 | G23: 카드 | H23: 17300
A24: 경영지원본부장 | B24: 43447 | C24: 내부직원간담 | D24: 경영지원본부 직원 격려 | E24: 동해도본점 | F24: 총무회계부 직원 7명 | G24: 카드 | H24: 137000
A25: 경영지원본부장 | B25: 43452 | C25: 내부직원간담 | D25: 경영지원본부 직원 격려 | E25: 여의도킹 | F25: 총무회계부 직원 3명 | G25: 카드 | H25: 37500
A26: 경영지원본부장 | B26: 43461 | C26: 내부직원간담 | D26: 경영지원본부 직원 격려 | E26: 동해도본점 | F26: 인사부 직원 6명 | G26: 카드 | H26: 99000
A27: 소 계 | F27: 6 | H27: =SUM(H21:H26) -> 686800
A28: 경제정책본부장 | B28: 43437 | C28: 내부직원 간담 | D28: 임원오찬 | E28: 소호정 | F28: 본회 상근임원 7명 | G28: 카드 | H28: 130000
A29: 경제정책본부장 | B29: 43439 | C29: 유관기관 협의 | D29: 공정경제추진단 관계자 간담 | E29: 봉명성 | F29: 공정경제추진단 관계자 1명 | G29: 카드 | H29: 16000
A30: 경제정책본부장 | B30: 43451 | C30: 내부직원 간담 | D30: 본부직원 격려 | E30: 공미 | F30: 경제정책본부 직원 11명 | G30: 카드 | H30: 141000
A31: 경제정책본부장 | B31: 43461 | C31: 내부직원 간담 | D31: 본부직원 격려 | E31: 보나베띠 | F31: 경제정책본부 직원 18명 | G31: 카드 | H31: 200000
A32: 소 계 | F32: 4 | H32: =SUM(H28:H31) -> 487000
A33: 회원지원본부장 | D33: 사용없음
A34: 소 계 | F34: 0 | H34: =SUM(H33:H33) -> 0
A35: 통상산업본부장 | B35: 43438 | C35: 내부직원 간담 | D35: 직원 격려 | E35: 에머이 | F35: 소상공인산업부 직원 6명 | G35: 카드 | H35: 112900
A36: 통상산업본부장 | B36: 43444 | C36: 내부직원 간담 | D36: 직원 격려 | E36: 고향정 | F36: 통상산업본부 직원 10명 | G36: 카드 | H36: 271000
A37: 통상산업본부장 | B37: 43445 | C37: 내부직원 간담 | D37: 직원 격려 | E37: 홈레스토랑 | F37: 제조뿌리산업부 직원 4명 | G37: 카드 | H37: 70000
A38: 통상산업본부장 | B38: 43453 | C38: 내부직원 간담 | D38: 직원 격려 | E38: (주)보나비 | F38: 소상공인산업부 직원 5명 | G38: 카드 | H38: 18000
A39: 통상산업본부장 | B39: 43454 | C39: 내부직원 간담 | D39: 직원 격려 | E39: (주)보나비 | F39: 제조뿌리산업부 직원 2명 | G39: 카드 | H39: 10000
A40: 소 계 | F40: 5 | H40: =SUM(H35:H39) -> 481900
A41: 노란우산공제사업본부장 | B41: 43437 | C41: 내부직원 간담 | D41: 직원간담 | E41: 돈보야 | F41: 본부 기획실 직원 등 2명 | G41: 카드 | H41: 16000
...
